BEGIN:VCALENDAR
VERSION:2.0
PRODID:-//KidWorks - ECPv6.15.20//NONSGML v1.0//EN
CALSCALE:GREGORIAN
METHOD:PUBLISH
X-WR-CALNAME:KidWorks
X-ORIGINAL-URL:https://kidworksoc.org
X-WR-CALDESC:Events for KidWorks
REFRESH-INTERVAL;VALUE=DURATION:PT1H
X-Robots-Tag:noindex
X-PUBLISHED-TTL:PT1H
BEGIN:VTIMEZONE
TZID:America/Los_Angeles
BEGIN:DAYLIGHT
TZOFFSETFROM:-0800
TZOFFSETTO:-0700
TZNAME:PDT
DTSTART:20230312T100000
END:DAYLIGHT
BEGIN:STANDARD
TZOFFSETFROM:-0700
TZOFFSETTO:-0800
TZNAME:PST
DTSTART:20231105T090000
END:STANDARD
BEGIN:DAYLIGHT
TZOFFSETFROM:-0800
TZOFFSETTO:-0700
TZNAME:PDT
DTSTART:20240310T100000
END:DAYLIGHT
BEGIN:STANDARD
TZOFFSETFROM:-0700
TZOFFSETTO:-0800
TZNAME:PST
DTSTART:20241103T090000
END:STANDARD
BEGIN:DAYLIGHT
TZOFFSETFROM:-0800
TZOFFSETTO:-0700
TZNAME:PDT
DTSTART:20250309T100000
END:DAYLIGHT
BEGIN:STANDARD
TZOFFSETFROM:-0700
TZOFFSETTO:-0800
TZNAME:PST
DTSTART:20251102T090000
END:STANDARD
END:VTIMEZONE
BEGIN:VEVENT
DTSTART;TZID=America/Los_Angeles:20240819T150000
DTEND;TZID=America/Los_Angeles:20240819T190000
DTSTAMP:20260424T020519
CREATED:20240627T163855Z
LAST-MODIFIED:20240627T163855Z
UID:10003607-1724079600-1724094000@kidworksoc.org
SUMMARY:1st Day of After School Programs -  24/25
DESCRIPTION:Today is the start of KidWorks After School programs for students in grades K-12 at all three centers.  To learn more about programs and register a student please visit kidworksoc.org/after-school \n  \n 
URL:https://kidworksoc.org/event/1st-day-of-after-school-programs-24-25/
ATTACH;FMTTYPE=image/jpeg:https://kidworksoc.org/wp-content/uploads/2024/02/IMG_1911-scaled.jpg
END:VEVENT
END:VCALENDAR