BEGIN:VCALENDAR
VERSION:2.0
PRODID:-//KidWorks - ECPv6.15.20//NONSGML v1.0//EN
CALSCALE:GREGORIAN
METHOD:PUBLISH
X-ORIGINAL-URL:https://kidworksoc.org
X-WR-CALDESC:Events for KidWorks
REFRESH-INTERVAL;VALUE=DURATION:PT1H
X-Robots-Tag:noindex
X-PUBLISHED-TTL:PT1H
BEGIN:VTIMEZONE
TZID:America/Los_Angeles
BEGIN:DAYLIGHT
TZOFFSETFROM:-0800
TZOFFSETTO:-0700
TZNAME:PDT
DTSTART:20250309T100000
END:DAYLIGHT
BEGIN:STANDARD
TZOFFSETFROM:-0700
TZOFFSETTO:-0800
TZNAME:PST
DTSTART:20251102T090000
END:STANDARD
BEGIN:DAYLIGHT
TZOFFSETFROM:-0800
TZOFFSETTO:-0700
TZNAME:PDT
DTSTART:20260308T100000
END:DAYLIGHT
BEGIN:STANDARD
TZOFFSETFROM:-0700
TZOFFSETTO:-0800
TZNAME:PST
DTSTART:20261101T090000
END:STANDARD
BEGIN:DAYLIGHT
TZOFFSETFROM:-0800
TZOFFSETTO:-0700
TZNAME:PDT
DTSTART:20270314T100000
END:DAYLIGHT
BEGIN:STANDARD
TZOFFSETFROM:-0700
TZOFFSETTO:-0800
TZNAME:PST
DTSTART:20271107T090000
END:STANDARD
END:VTIMEZONE
BEGIN:VEVENT
DTSTART;TZID=America/Los_Angeles:20260302T150000
DTEND;TZID=America/Los_Angeles:20260302T170000
DTSTAMP:20260423T042926
CREATED:20260128T231138Z
LAST-MODIFIED:20260205T180827Z
UID:10003714-1772463600-1772470800@kidworksoc.org
SUMMARY:K–5 Read Across America Week
DESCRIPTION:Join KidWorks’ after school programs and read with kinder to fifth grade students during this national celebration of books!   \nVolunteer at KidWorks main center\, Dan Donahue Center (DDC) or jump into the fun at one of our spoke centers! \nIf interested in volunteering at this event\, please email abigail.moore@kidworksoc.org with “K-5 Read Across America Week” in the title of your email.
URL:https://kidworksoc.org/event/read-to-k-5-students/
LOCATION:KidWorks Dan Donahue Center\, 1902 W Chestnut Ave\, Santa Ana\, CA\, 92703\, United States
CATEGORIES:Engagement Events
ATTACH;FMTTYPE=image/png:https://kidworksoc.org/wp-content/uploads/2026/01/K-5-Read-Across-America-Week-3.png
END:VEVENT
BEGIN:VEVENT
DTSTART;TZID=America/Los_Angeles:20260303T150000
DTEND;TZID=America/Los_Angeles:20260303T170000
DTSTAMP:20260423T042926
CREATED:20260128T231340Z
LAST-MODIFIED:20260205T181025Z
UID:10003715-1772550000-1772557200@kidworksoc.org
SUMMARY:K–5 Read Across America Week
DESCRIPTION:Join KidWorks’ after school programs and read with kinder to fifth grade students during this national celebration of books!   \nNote: Feeling extra festive\, join us by dressing in theme!   \nVolunteer at KidWorks main center\, Dan Donahue Center (DDC) or jump into the fun at one of our spoke centers! \nIf interested in volunteering at this event\, please email abigail.moore@kidworksoc.org with “K-5 Read Across America Week” in the title of your email.
URL:https://kidworksoc.org/event/read-to-k-5-students-2/
LOCATION:KidWorks Dan Donahue Center\, 1902 W Chestnut Ave\, Santa Ana\, CA\, 92703\, United States
CATEGORIES:Engagement Events
ATTACH;FMTTYPE=image/png:https://kidworksoc.org/wp-content/uploads/2026/01/K-5-Read-Across-America-Week-4.png
END:VEVENT
BEGIN:VEVENT
DTSTART;TZID=America/Los_Angeles:20260304T150000
DTEND;TZID=America/Los_Angeles:20260304T170000
DTSTAMP:20260423T042926
CREATED:20260128T231406Z
LAST-MODIFIED:20260205T181308Z
UID:10003716-1772636400-1772643600@kidworksoc.org
SUMMARY:K–5 Read Across America Week
DESCRIPTION:Join KidWorks’ after school programs and read with kinder to fifth grade students during this national celebration of books!   \nNote: Feeling extra festive\, join us by dressing in theme!   \nVolunteer at KidWorks main center\, Dan Donahue Center (DDC) or jump into the fun at one of our spoke centers! \nIf interested in volunteering at this event\, please email abigail.moore@kidworksoc.org with “K-5 Read Across America Week” in the title of your email.
URL:https://kidworksoc.org/event/read-to-k-5-students-3/
LOCATION:KidWorks Dan Donahue Center\, 1902 W Chestnut Ave\, Santa Ana\, CA\, 92703\, United States
CATEGORIES:Engagement Events
ATTACH;FMTTYPE=image/png:https://kidworksoc.org/wp-content/uploads/2026/01/K-5-Read-Across-America-Week.png
END:VEVENT
BEGIN:VEVENT
DTSTART;TZID=America/Los_Angeles:20260305T150000
DTEND;TZID=America/Los_Angeles:20260305T170000
DTSTAMP:20260423T042926
CREATED:20260128T231425Z
LAST-MODIFIED:20260205T181402Z
UID:10003717-1772722800-1772730000@kidworksoc.org
SUMMARY:K–5 Read Across America Week
DESCRIPTION:Join KidWorks’ after school programs and read with kinder to fifth grade students during this national celebration of books!   \nNote: Feeling extra festive\, join us by dressing in theme!   \nVolunteer at KidWorks main center\, Dan Donahue Center (DDC) or jump into the fun at one of our spoke centers! \nIf interested in volunteering at this event\, please email abigail.moore@kidworksoc.org with “K-5 Literacy Week Fun Day” in the title of your email.
URL:https://kidworksoc.org/event/read-to-k-5-students-4/
LOCATION:KidWorks Townsend Center (KCT)\, 817 S. Townsend Street\, Santa Ana\, CA\, 92704\, United States
CATEGORIES:Engagement Events
ATTACH;FMTTYPE=image/png:https://kidworksoc.org/wp-content/uploads/2026/01/K-5-Read-Across-America-Week-2.png
END:VEVENT
END:VCALENDAR