BEGIN:VCALENDAR
VERSION:2.0
PRODID:-//KidWorks - ECPv6.15.20//NONSGML v1.0//EN
CALSCALE:GREGORIAN
METHOD:PUBLISH
X-ORIGINAL-URL:https://kidworksoc.org
X-WR-CALDESC:Events for KidWorks
REFRESH-INTERVAL;VALUE=DURATION:PT1H
X-Robots-Tag:noindex
X-PUBLISHED-TTL:PT1H
BEGIN:VTIMEZONE
TZID:America/Los_Angeles
BEGIN:DAYLIGHT
TZOFFSETFROM:-0800
TZOFFSETTO:-0700
TZNAME:PDT
DTSTART:20230312T100000
END:DAYLIGHT
BEGIN:STANDARD
TZOFFSETFROM:-0700
TZOFFSETTO:-0800
TZNAME:PST
DTSTART:20231105T090000
END:STANDARD
BEGIN:DAYLIGHT
TZOFFSETFROM:-0800
TZOFFSETTO:-0700
TZNAME:PDT
DTSTART:20240310T100000
END:DAYLIGHT
BEGIN:STANDARD
TZOFFSETFROM:-0700
TZOFFSETTO:-0800
TZNAME:PST
DTSTART:20241103T090000
END:STANDARD
BEGIN:DAYLIGHT
TZOFFSETFROM:-0800
TZOFFSETTO:-0700
TZNAME:PDT
DTSTART:20250309T100000
END:DAYLIGHT
BEGIN:STANDARD
TZOFFSETFROM:-0700
TZOFFSETTO:-0800
TZNAME:PST
DTSTART:20251102T090000
END:STANDARD
END:VTIMEZONE
BEGIN:VEVENT
DTSTART;TZID=America/Los_Angeles:20240528T080000
DTEND;TZID=America/Los_Angeles:20240528T170000
DTSTAMP:20260424T065616
CREATED:20240206T011124Z
LAST-MODIFIED:20240206T011124Z
UID:10003462-1716883200-1716915600@kidworksoc.org
SUMMARY:Family Town Hall Meeting
DESCRIPTION:Our monthly meeting for parents provides important updates about KidWorks programs\, family services and other information.  Parents meetings are free and we encourage all families to have one member attend. \nQuestions:\nE-mail sonia.rios@kidworksoc.org
URL:https://kidworksoc.org/event/family-town-hall-meeting/2024-05-28/
LOCATION:KidWorks Dan Donahue Center\, 1902 W Chestnut Ave\, Santa Ana\, CA\, 92703\, United States
CATEGORIES:Parent Events
ATTACH;FMTTYPE=image/jpeg:https://kidworksoc.org/wp-content/uploads/2024/02/Ignite-End-of-Year-Celebration-Family-2022.jpeg
END:VEVENT
END:VCALENDAR