BEGIN:VCALENDAR
VERSION:2.0
PRODID:-//KidWorks - ECPv6.15.20//NONSGML v1.0//EN
CALSCALE:GREGORIAN
METHOD:PUBLISH
X-WR-CALNAME:KidWorks
X-ORIGINAL-URL:https://kidworksoc.org
X-WR-CALDESC:Events for KidWorks
REFRESH-INTERVAL;VALUE=DURATION:PT1H
X-Robots-Tag:noindex
X-PUBLISHED-TTL:PT1H
BEGIN:VTIMEZONE
TZID:America/Los_Angeles
BEGIN:DAYLIGHT
TZOFFSETFROM:-0800
TZOFFSETTO:-0700
TZNAME:PDT
DTSTART:20230312T100000
END:DAYLIGHT
BEGIN:STANDARD
TZOFFSETFROM:-0700
TZOFFSETTO:-0800
TZNAME:PST
DTSTART:20231105T090000
END:STANDARD
BEGIN:DAYLIGHT
TZOFFSETFROM:-0800
TZOFFSETTO:-0700
TZNAME:PDT
DTSTART:20240310T100000
END:DAYLIGHT
BEGIN:STANDARD
TZOFFSETFROM:-0700
TZOFFSETTO:-0800
TZNAME:PST
DTSTART:20241103T090000
END:STANDARD
BEGIN:DAYLIGHT
TZOFFSETFROM:-0800
TZOFFSETTO:-0700
TZNAME:PDT
DTSTART:20250309T100000
END:DAYLIGHT
BEGIN:STANDARD
TZOFFSETFROM:-0700
TZOFFSETTO:-0800
TZNAME:PST
DTSTART:20251102T090000
END:STANDARD
END:VTIMEZONE
BEGIN:VEVENT
DTSTART;TZID=America/Los_Angeles:20240304T080000
DTEND;TZID=America/Los_Angeles:20240308T150000
DTSTAMP:20260424T082827
CREATED:20231213T000207Z
LAST-MODIFIED:20231213T000207Z
UID:10003102-1709539200-1709910000@kidworksoc.org
SUMMARY:ASP Reading Week
DESCRIPTION:At KidWorks\, reading week is a major celebration.  Each year\, the KidWorks after-school program team puts together a special program to celebrate National Reading Week\,  focusing on Dr. Seuss books and fun activities. \nTo get involved – contact noemi.juarez@kidworksoc.org
URL:https://kidworksoc.org/event/asp-reading-week/
ATTACH;FMTTYPE=image/jpeg:https://kidworksoc.org/wp-content/uploads/2023/02/IMG_3216.jpg
END:VEVENT
BEGIN:VEVENT
DTSTART;TZID=America/Los_Angeles:20240308T150000
DTEND;TZID=America/Los_Angeles:20240308T170000
DTSTAMP:20260424T082827
CREATED:20230822T193202Z
LAST-MODIFIED:20230822T194940Z
UID:10000926-1709910000-1709917200@kidworksoc.org
SUMMARY:K-5 Fun Friday
DESCRIPTION:
URL:https://kidworksoc.org/event/students-in-grades-k-5-enjoy-games-songs-skits-and-other-fun-activities-during-program-time/2024-03-08/
ATTACH;FMTTYPE=image/jpeg:https://kidworksoc.org/wp-content/uploads/2023/08/IMG_1172.jpeg
END:VEVENT
END:VCALENDAR