BEGIN:VCALENDAR
VERSION:2.0
PRODID:-//KidWorks - ECPv6.15.20//NONSGML v1.0//EN
CALSCALE:GREGORIAN
METHOD:PUBLISH
X-ORIGINAL-URL:https://kidworksoc.org
X-WR-CALDESC:Events for KidWorks
REFRESH-INTERVAL;VALUE=DURATION:PT1H
X-Robots-Tag:noindex
X-PUBLISHED-TTL:PT1H
BEGIN:VTIMEZONE
TZID:America/Los_Angeles
BEGIN:DAYLIGHT
TZOFFSETFROM:-0800
TZOFFSETTO:-0700
TZNAME:PDT
DTSTART:20230312T100000
END:DAYLIGHT
BEGIN:STANDARD
TZOFFSETFROM:-0700
TZOFFSETTO:-0800
TZNAME:PST
DTSTART:20231105T090000
END:STANDARD
BEGIN:DAYLIGHT
TZOFFSETFROM:-0800
TZOFFSETTO:-0700
TZNAME:PDT
DTSTART:20240310T100000
END:DAYLIGHT
BEGIN:STANDARD
TZOFFSETFROM:-0700
TZOFFSETTO:-0800
TZNAME:PST
DTSTART:20241103T090000
END:STANDARD
BEGIN:DAYLIGHT
TZOFFSETFROM:-0800
TZOFFSETTO:-0700
TZNAME:PDT
DTSTART:20250309T100000
END:DAYLIGHT
BEGIN:STANDARD
TZOFFSETFROM:-0700
TZOFFSETTO:-0800
TZNAME:PST
DTSTART:20251102T090000
END:STANDARD
END:VTIMEZONE
BEGIN:VEVENT
DTSTART;TZID=America/Los_Angeles:20241104T150000
DTEND;TZID=America/Los_Angeles:20241104T170000
DTSTAMP:20260420T233808
CREATED:20241003T201809Z
LAST-MODIFIED:20241003T201924Z
UID:10003693-1730732400-1730739600@kidworksoc.org
SUMMARY:College Care Package Project
DESCRIPTION:Join us in supporting nearly 80 KidWorks students by helping assemble College Care Packages\, purchase needed items\, or make a donation. \nAmazon Wish List: https://www.amazon.com/hz/wishlist/ls/2J7GA8343L0TE/ref=hz_ls_biz_ex?
URL:https://kidworksoc.org/event/college-care-packages-24/
LOCATION:KidWorks Dan Donahue Center\, 1902 W Chestnut Ave\, Santa Ana\, CA\, 92703\, United States
ATTACH;FMTTYPE=image/png:https://kidworksoc.org/wp-content/uploads/2023/07/Screenshot-2023-07-28-at-12.39.20-PM.png
END:VEVENT
END:VCALENDAR