BEGIN:VCALENDAR
VERSION:2.0
PRODID:-//KidWorks - ECPv6.15.20//NONSGML v1.0//EN
CALSCALE:GREGORIAN
METHOD:PUBLISH
X-ORIGINAL-URL:https://kidworksoc.org/es/
X-WR-CALDESC:Eventos para KidWorks
REFRESH-INTERVAL;VALUE=DURATION:PT1H
X-Robots-Tag:noindex
X-PUBLISHED-TTL:PT1H
BEGIN:VTIMEZONE
TZID:America/Los_Angeles
BEGIN:DAYLIGHT
TZOFFSETFROM:-0800
TZOFFSETTO:-0700
TZNAME:PDT
DTSTART:20250309T100000
END:DAYLIGHT
BEGIN:STANDARD
TZOFFSETFROM:-0700
TZOFFSETTO:-0800
TZNAME:PST
DTSTART:20251102T090000
END:STANDARD
BEGIN:DAYLIGHT
TZOFFSETFROM:-0800
TZOFFSETTO:-0700
TZNAME:PDT
DTSTART:20260308T100000
END:DAYLIGHT
BEGIN:STANDARD
TZOFFSETFROM:-0700
TZOFFSETTO:-0800
TZNAME:PST
DTSTART:20261101T090000
END:STANDARD
BEGIN:DAYLIGHT
TZOFFSETFROM:-0800
TZOFFSETTO:-0700
TZNAME:PDT
DTSTART:20270314T100000
END:DAYLIGHT
BEGIN:STANDARD
TZOFFSETFROM:-0700
TZOFFSETTO:-0800
TZNAME:PST
DTSTART:20271107T090000
END:STANDARD
END:VTIMEZONE
BEGIN:VEVENT
DTSTART;TZID=America/Los_Angeles:20260505T143000
DTEND;TZID=America/Los_Angeles:20260505T151500
DTSTAMP:20260421T163210
CREATED:20230926T044638Z
LAST-MODIFIED:20230926T044638Z
UID:10001358-1777991400-1777994100@kidworksoc.org
SUMMARY:Visita KidWorks
DESCRIPTION:Nos encanta recibir visitas. Las visitas suelen durar 45 minutos y se realizan en: \nCentro KidWorks Dan Donahue\n1902 W. Chestnut Ave\nSanta Ana\, CA 92703
URL:https://kidworksoc.org/es/event/visita-kidworks/2026-05-05/
LOCATION:KidWorks Dan Donahue Center\, 1902 W Chestnut Ave\, Santa Ana\, CA\, 92703\, United States
ATTACH;FMTTYPE=image/jpeg:https://kidworksoc.org/wp-content/uploads/2023/09/IMG_6637.jpg
END:VEVENT
BEGIN:VEVENT
DTSTART;TZID=America/Los_Angeles:20260506T160000
DTEND;TZID=America/Los_Angeles:20260506T164500
DTSTAMP:20260421T163210
CREATED:20230926T215952Z
LAST-MODIFIED:20230926T215952Z
UID:10002923-1778083200-1778085900@kidworksoc.org
SUMMARY:Visita KidWorks
DESCRIPTION:Nos encanta recibir visitas. Las visitas suelen durar 45 minutos y se realizan en nuestro Centro Dan Donahue. Haga clic AQUÍ para obtener más información e inscribirse. \nCentro KidWorks Dan Donahue\n1902 W. Chestnut Ave\nSanta Ana\, CA 92703
URL:https://kidworksoc.org/es/event/visita-kidworks-2/2026-05-06/
LOCATION:KidWorks Dan Donahue Center\, 1902 W Chestnut Ave\, Santa Ana\, CA\, 92703\, United States
ATTACH;FMTTYPE=image/jpeg:https://kidworksoc.org/wp-content/uploads/2023/02/CAASeniors-Christmas-e1695703920919.jpg
END:VEVENT
BEGIN:VEVENT
DTSTART;TZID=America/Los_Angeles:20260508T180000
DTEND;TZID=America/Los_Angeles:20260508T210000
DTSTAMP:20260421T163210
CREATED:20240627T164759Z
LAST-MODIFIED:20240711T184044Z
UID:10003650-1778263200-1778274000@kidworksoc.org
SUMMARY:Noches de la Juventud de Secundaria
DESCRIPTION:
URL:https://kidworksoc.org/es/event/noches-de-la-juventud-de-secundaria-2/2026-05-08/
ATTACH;FMTTYPE=image/jpeg:https://kidworksoc.org/wp-content/uploads/2023/02/IMG_9695.jpg
END:VEVENT
BEGIN:VEVENT
DTSTART;TZID=America/Los_Angeles:20260512T143000
DTEND;TZID=America/Los_Angeles:20260512T151500
DTSTAMP:20260421T163210
CREATED:20230926T044638Z
LAST-MODIFIED:20230926T044638Z
UID:10001359-1778596200-1778598900@kidworksoc.org
SUMMARY:Visita KidWorks
DESCRIPTION:Nos encanta recibir visitas. Las visitas suelen durar 45 minutos y se realizan en: \nCentro KidWorks Dan Donahue\n1902 W. Chestnut Ave\nSanta Ana\, CA 92703
URL:https://kidworksoc.org/es/event/visita-kidworks/2026-05-12/
LOCATION:KidWorks Dan Donahue Center\, 1902 W Chestnut Ave\, Santa Ana\, CA\, 92703\, United States
ATTACH;FMTTYPE=image/jpeg:https://kidworksoc.org/wp-content/uploads/2023/09/IMG_6637.jpg
END:VEVENT
BEGIN:VEVENT
DTSTART;TZID=America/Los_Angeles:20260513T160000
DTEND;TZID=America/Los_Angeles:20260513T164500
DTSTAMP:20260421T163210
CREATED:20230926T215952Z
LAST-MODIFIED:20230926T215952Z
UID:10002924-1778688000-1778690700@kidworksoc.org
SUMMARY:Visita KidWorks
DESCRIPTION:Nos encanta recibir visitas. Las visitas suelen durar 45 minutos y se realizan en nuestro Centro Dan Donahue. Haga clic AQUÍ para obtener más información e inscribirse. \nCentro KidWorks Dan Donahue\n1902 W. Chestnut Ave\nSanta Ana\, CA 92703
URL:https://kidworksoc.org/es/event/visita-kidworks-2/2026-05-13/
LOCATION:KidWorks Dan Donahue Center\, 1902 W Chestnut Ave\, Santa Ana\, CA\, 92703\, United States
ATTACH;FMTTYPE=image/jpeg:https://kidworksoc.org/wp-content/uploads/2023/02/CAASeniors-Christmas-e1695703920919.jpg
END:VEVENT
BEGIN:VEVENT
DTSTART;TZID=America/Los_Angeles:20260515T170000
DTEND;TZID=America/Los_Angeles:20260515T190000
DTSTAMP:20260421T163210
CREATED:20230612T232942Z
LAST-MODIFIED:20230612T232942Z
UID:10003571-1778864400-1778871600@kidworksoc.org
SUMMARY:Noches de Juventud en la Escuela Secundaria
DESCRIPTION:
URL:https://kidworksoc.org/es/event/noches-de-juventud-en-la-escuela-secundaria/2026-05-15/
ATTACH;FMTTYPE=image/jpeg:https://kidworksoc.org/wp-content/uploads/2023/05/dGWu68pA.jpeg
END:VEVENT
BEGIN:VEVENT
DTSTART;TZID=America/Los_Angeles:20260519T143000
DTEND;TZID=America/Los_Angeles:20260519T151500
DTSTAMP:20260421T163210
CREATED:20230926T044638Z
LAST-MODIFIED:20230926T044638Z
UID:10001360-1779201000-1779203700@kidworksoc.org
SUMMARY:Visita KidWorks
DESCRIPTION:Nos encanta recibir visitas. Las visitas suelen durar 45 minutos y se realizan en: \nCentro KidWorks Dan Donahue\n1902 W. Chestnut Ave\nSanta Ana\, CA 92703
URL:https://kidworksoc.org/es/event/visita-kidworks/2026-05-19/
LOCATION:KidWorks Dan Donahue Center\, 1902 W Chestnut Ave\, Santa Ana\, CA\, 92703\, United States
ATTACH;FMTTYPE=image/jpeg:https://kidworksoc.org/wp-content/uploads/2023/09/IMG_6637.jpg
END:VEVENT
BEGIN:VEVENT
DTSTART;TZID=America/Los_Angeles:20260520T160000
DTEND;TZID=America/Los_Angeles:20260520T164500
DTSTAMP:20260421T163210
CREATED:20230926T215952Z
LAST-MODIFIED:20230926T215952Z
UID:10002925-1779292800-1779295500@kidworksoc.org
SUMMARY:Visita KidWorks
DESCRIPTION:Nos encanta recibir visitas. Las visitas suelen durar 45 minutos y se realizan en nuestro Centro Dan Donahue. Haga clic AQUÍ para obtener más información e inscribirse. \nCentro KidWorks Dan Donahue\n1902 W. Chestnut Ave\nSanta Ana\, CA 92703
URL:https://kidworksoc.org/es/event/visita-kidworks-2/2026-05-20/
LOCATION:KidWorks Dan Donahue Center\, 1902 W Chestnut Ave\, Santa Ana\, CA\, 92703\, United States
ATTACH;FMTTYPE=image/jpeg:https://kidworksoc.org/wp-content/uploads/2023/02/CAASeniors-Christmas-e1695703920919.jpg
END:VEVENT
BEGIN:VEVENT
DTSTART;TZID=America/Los_Angeles:20260526T143000
DTEND;TZID=America/Los_Angeles:20260526T151500
DTSTAMP:20260421T163210
CREATED:20230926T044638Z
LAST-MODIFIED:20230926T044638Z
UID:10001361-1779805800-1779808500@kidworksoc.org
SUMMARY:Visita KidWorks
DESCRIPTION:Nos encanta recibir visitas. Las visitas suelen durar 45 minutos y se realizan en: \nCentro KidWorks Dan Donahue\n1902 W. Chestnut Ave\nSanta Ana\, CA 92703
URL:https://kidworksoc.org/es/event/visita-kidworks/2026-05-26/
LOCATION:KidWorks Dan Donahue Center\, 1902 W Chestnut Ave\, Santa Ana\, CA\, 92703\, United States
ATTACH;FMTTYPE=image/jpeg:https://kidworksoc.org/wp-content/uploads/2023/09/IMG_6637.jpg
END:VEVENT
BEGIN:VEVENT
DTSTART;TZID=America/Los_Angeles:20260527T160000
DTEND;TZID=America/Los_Angeles:20260527T164500
DTSTAMP:20260421T163210
CREATED:20230926T215952Z
LAST-MODIFIED:20230926T215952Z
UID:10002926-1779897600-1779900300@kidworksoc.org
SUMMARY:Visita KidWorks
DESCRIPTION:Nos encanta recibir visitas. Las visitas suelen durar 45 minutos y se realizan en nuestro Centro Dan Donahue. Haga clic AQUÍ para obtener más información e inscribirse. \nCentro KidWorks Dan Donahue\n1902 W. Chestnut Ave\nSanta Ana\, CA 92703
URL:https://kidworksoc.org/es/event/visita-kidworks-2/2026-05-27/
LOCATION:KidWorks Dan Donahue Center\, 1902 W Chestnut Ave\, Santa Ana\, CA\, 92703\, United States
ATTACH;FMTTYPE=image/jpeg:https://kidworksoc.org/wp-content/uploads/2023/02/CAASeniors-Christmas-e1695703920919.jpg
END:VEVENT
END:VCALENDAR