BEGIN:VCALENDAR
VERSION:2.0
PRODID:-//KidWorks - ECPv6.15.20//NONSGML v1.0//EN
CALSCALE:GREGORIAN
METHOD:PUBLISH
X-ORIGINAL-URL:https://kidworksoc.org/es/
X-WR-CALDESC:Eventos para KidWorks
REFRESH-INTERVAL;VALUE=DURATION:PT1H
X-Robots-Tag:noindex
X-PUBLISHED-TTL:PT1H
BEGIN:VTIMEZONE
TZID:America/Los_Angeles
BEGIN:DAYLIGHT
TZOFFSETFROM:-0800
TZOFFSETTO:-0700
TZNAME:PDT
DTSTART:20270314T100000
END:DAYLIGHT
BEGIN:STANDARD
TZOFFSETFROM:-0700
TZOFFSETTO:-0800
TZNAME:PST
DTSTART:20271107T090000
END:STANDARD
BEGIN:DAYLIGHT
TZOFFSETFROM:-0800
TZOFFSETTO:-0700
TZNAME:PDT
DTSTART:20280312T100000
END:DAYLIGHT
BEGIN:STANDARD
TZOFFSETFROM:-0700
TZOFFSETTO:-0800
TZNAME:PST
DTSTART:20281105T090000
END:STANDARD
BEGIN:DAYLIGHT
TZOFFSETFROM:-0800
TZOFFSETTO:-0700
TZNAME:PDT
DTSTART:20290311T100000
END:DAYLIGHT
BEGIN:STANDARD
TZOFFSETFROM:-0700
TZOFFSETTO:-0800
TZNAME:PST
DTSTART:20291104T090000
END:STANDARD
END:VTIMEZONE
BEGIN:VEVENT
DTSTART;TZID=America/Los_Angeles:20280126T160000
DTEND;TZID=America/Los_Angeles:20280126T164500
DTSTAMP:20260424T111609
CREATED:20230926T215952Z
LAST-MODIFIED:20230926T215952Z
UID:10003013-1832515200-1832517900@kidworksoc.org
SUMMARY:Visita KidWorks
DESCRIPTION:Nos encanta recibir visitas. Las visitas suelen durar 45 minutos y se realizan en nuestro Centro Dan Donahue. Haga clic AQUÍ para obtener más información e inscribirse. \nCentro KidWorks Dan Donahue\n1902 W. Chestnut Ave\nSanta Ana\, CA 92703
URL:https://kidworksoc.org/es/event/visita-kidworks-2/2028-01-26/
LOCATION:KidWorks Dan Donahue Center\, 1902 W Chestnut Ave\, Santa Ana\, CA\, 92703\, United States
ATTACH;FMTTYPE=image/jpeg:https://kidworksoc.org/wp-content/uploads/2023/02/CAASeniors-Christmas-e1695703920919.jpg
END:VEVENT
BEGIN:VEVENT
DTSTART;TZID=America/Los_Angeles:20280201T143000
DTEND;TZID=America/Los_Angeles:20280201T151500
DTSTAMP:20260424T111609
CREATED:20230926T044638Z
LAST-MODIFIED:20230926T044638Z
UID:10001449-1833028200-1833030900@kidworksoc.org
SUMMARY:Visita KidWorks
DESCRIPTION:Nos encanta recibir visitas. Las visitas suelen durar 45 minutos y se realizan en: \nCentro KidWorks Dan Donahue\n1902 W. Chestnut Ave\nSanta Ana\, CA 92703
URL:https://kidworksoc.org/es/event/visita-kidworks/2028-02-01/
LOCATION:KidWorks Dan Donahue Center\, 1902 W Chestnut Ave\, Santa Ana\, CA\, 92703\, United States
ATTACH;FMTTYPE=image/jpeg:https://kidworksoc.org/wp-content/uploads/2023/09/IMG_6637.jpg
END:VEVENT
BEGIN:VEVENT
DTSTART;TZID=America/Los_Angeles:20280202T160000
DTEND;TZID=America/Los_Angeles:20280202T164500
DTSTAMP:20260424T111609
CREATED:20230926T215952Z
LAST-MODIFIED:20230926T215952Z
UID:10003014-1833120000-1833122700@kidworksoc.org
SUMMARY:Visita KidWorks
DESCRIPTION:Nos encanta recibir visitas. Las visitas suelen durar 45 minutos y se realizan en nuestro Centro Dan Donahue. Haga clic AQUÍ para obtener más información e inscribirse. \nCentro KidWorks Dan Donahue\n1902 W. Chestnut Ave\nSanta Ana\, CA 92703
URL:https://kidworksoc.org/es/event/visita-kidworks-2/2028-02-02/
LOCATION:KidWorks Dan Donahue Center\, 1902 W Chestnut Ave\, Santa Ana\, CA\, 92703\, United States
ATTACH;FMTTYPE=image/jpeg:https://kidworksoc.org/wp-content/uploads/2023/02/CAASeniors-Christmas-e1695703920919.jpg
END:VEVENT
BEGIN:VEVENT
DTSTART;TZID=America/Los_Angeles:20280208T143000
DTEND;TZID=America/Los_Angeles:20280208T151500
DTSTAMP:20260424T111609
CREATED:20230926T044638Z
LAST-MODIFIED:20230926T044638Z
UID:10001450-1833633000-1833635700@kidworksoc.org
SUMMARY:Visita KidWorks
DESCRIPTION:Nos encanta recibir visitas. Las visitas suelen durar 45 minutos y se realizan en: \nCentro KidWorks Dan Donahue\n1902 W. Chestnut Ave\nSanta Ana\, CA 92703
URL:https://kidworksoc.org/es/event/visita-kidworks/2028-02-08/
LOCATION:KidWorks Dan Donahue Center\, 1902 W Chestnut Ave\, Santa Ana\, CA\, 92703\, United States
ATTACH;FMTTYPE=image/jpeg:https://kidworksoc.org/wp-content/uploads/2023/09/IMG_6637.jpg
END:VEVENT
BEGIN:VEVENT
DTSTART;TZID=America/Los_Angeles:20280209T160000
DTEND;TZID=America/Los_Angeles:20280209T164500
DTSTAMP:20260424T111609
CREATED:20230926T215952Z
LAST-MODIFIED:20230926T215952Z
UID:10003015-1833724800-1833727500@kidworksoc.org
SUMMARY:Visita KidWorks
DESCRIPTION:Nos encanta recibir visitas. Las visitas suelen durar 45 minutos y se realizan en nuestro Centro Dan Donahue. Haga clic AQUÍ para obtener más información e inscribirse. \nCentro KidWorks Dan Donahue\n1902 W. Chestnut Ave\nSanta Ana\, CA 92703
URL:https://kidworksoc.org/es/event/visita-kidworks-2/2028-02-09/
LOCATION:KidWorks Dan Donahue Center\, 1902 W Chestnut Ave\, Santa Ana\, CA\, 92703\, United States
ATTACH;FMTTYPE=image/jpeg:https://kidworksoc.org/wp-content/uploads/2023/02/CAASeniors-Christmas-e1695703920919.jpg
END:VEVENT
BEGIN:VEVENT
DTSTART;TZID=America/Los_Angeles:20280211T180000
DTEND;TZID=America/Los_Angeles:20280211T210000
DTSTAMP:20260424T111609
CREATED:20240627T164759Z
LAST-MODIFIED:20240711T184044Z
UID:10003671-1833904800-1833915600@kidworksoc.org
SUMMARY:Noches de la Juventud de Secundaria
DESCRIPTION:
URL:https://kidworksoc.org/es/event/noches-de-la-juventud-de-secundaria-2/2028-02-11/
ATTACH;FMTTYPE=image/jpeg:https://kidworksoc.org/wp-content/uploads/2023/02/IMG_9695.jpg
END:VEVENT
BEGIN:VEVENT
DTSTART;TZID=America/Los_Angeles:20280215T143000
DTEND;TZID=America/Los_Angeles:20280215T151500
DTSTAMP:20260424T111609
CREATED:20230926T044638Z
LAST-MODIFIED:20230926T044638Z
UID:10001451-1834237800-1834240500@kidworksoc.org
SUMMARY:Visita KidWorks
DESCRIPTION:Nos encanta recibir visitas. Las visitas suelen durar 45 minutos y se realizan en: \nCentro KidWorks Dan Donahue\n1902 W. Chestnut Ave\nSanta Ana\, CA 92703
URL:https://kidworksoc.org/es/event/visita-kidworks/2028-02-15/
LOCATION:KidWorks Dan Donahue Center\, 1902 W Chestnut Ave\, Santa Ana\, CA\, 92703\, United States
ATTACH;FMTTYPE=image/jpeg:https://kidworksoc.org/wp-content/uploads/2023/09/IMG_6637.jpg
END:VEVENT
BEGIN:VEVENT
DTSTART;TZID=America/Los_Angeles:20280216T160000
DTEND;TZID=America/Los_Angeles:20280216T164500
DTSTAMP:20260424T111609
CREATED:20230926T215952Z
LAST-MODIFIED:20230926T215952Z
UID:10003016-1834329600-1834332300@kidworksoc.org
SUMMARY:Visita KidWorks
DESCRIPTION:Nos encanta recibir visitas. Las visitas suelen durar 45 minutos y se realizan en nuestro Centro Dan Donahue. Haga clic AQUÍ para obtener más información e inscribirse. \nCentro KidWorks Dan Donahue\n1902 W. Chestnut Ave\nSanta Ana\, CA 92703
URL:https://kidworksoc.org/es/event/visita-kidworks-2/2028-02-16/
LOCATION:KidWorks Dan Donahue Center\, 1902 W Chestnut Ave\, Santa Ana\, CA\, 92703\, United States
ATTACH;FMTTYPE=image/jpeg:https://kidworksoc.org/wp-content/uploads/2023/02/CAASeniors-Christmas-e1695703920919.jpg
END:VEVENT
BEGIN:VEVENT
DTSTART;TZID=America/Los_Angeles:20280218T170000
DTEND;TZID=America/Los_Angeles:20280218T190000
DTSTAMP:20260424T111609
CREATED:20230612T232942Z
LAST-MODIFIED:20230612T232942Z
UID:10003592-1834506000-1834513200@kidworksoc.org
SUMMARY:Noches de Juventud en la Escuela Secundaria
DESCRIPTION:
URL:https://kidworksoc.org/es/event/noches-de-juventud-en-la-escuela-secundaria/2028-02-18/
ATTACH;FMTTYPE=image/jpeg:https://kidworksoc.org/wp-content/uploads/2023/05/dGWu68pA.jpeg
END:VEVENT
BEGIN:VEVENT
DTSTART;TZID=America/Los_Angeles:20280222T143000
DTEND;TZID=America/Los_Angeles:20280222T151500
DTSTAMP:20260424T111609
CREATED:20230926T044638Z
LAST-MODIFIED:20230926T044638Z
UID:10001452-1834842600-1834845300@kidworksoc.org
SUMMARY:Visita KidWorks
DESCRIPTION:Nos encanta recibir visitas. Las visitas suelen durar 45 minutos y se realizan en: \nCentro KidWorks Dan Donahue\n1902 W. Chestnut Ave\nSanta Ana\, CA 92703
URL:https://kidworksoc.org/es/event/visita-kidworks/2028-02-22/
LOCATION:KidWorks Dan Donahue Center\, 1902 W Chestnut Ave\, Santa Ana\, CA\, 92703\, United States
ATTACH;FMTTYPE=image/jpeg:https://kidworksoc.org/wp-content/uploads/2023/09/IMG_6637.jpg
END:VEVENT
BEGIN:VEVENT
DTSTART;TZID=America/Los_Angeles:20280223T160000
DTEND;TZID=America/Los_Angeles:20280223T164500
DTSTAMP:20260424T111609
CREATED:20230926T215952Z
LAST-MODIFIED:20230926T215952Z
UID:10003017-1834934400-1834937100@kidworksoc.org
SUMMARY:Visita KidWorks
DESCRIPTION:Nos encanta recibir visitas. Las visitas suelen durar 45 minutos y se realizan en nuestro Centro Dan Donahue. Haga clic AQUÍ para obtener más información e inscribirse. \nCentro KidWorks Dan Donahue\n1902 W. Chestnut Ave\nSanta Ana\, CA 92703
URL:https://kidworksoc.org/es/event/visita-kidworks-2/2028-02-23/
LOCATION:KidWorks Dan Donahue Center\, 1902 W Chestnut Ave\, Santa Ana\, CA\, 92703\, United States
ATTACH;FMTTYPE=image/jpeg:https://kidworksoc.org/wp-content/uploads/2023/02/CAASeniors-Christmas-e1695703920919.jpg
END:VEVENT
BEGIN:VEVENT
DTSTART;TZID=America/Los_Angeles:20280229T143000
DTEND;TZID=America/Los_Angeles:20280229T151500
DTSTAMP:20260424T111609
CREATED:20230926T044638Z
LAST-MODIFIED:20230926T044638Z
UID:10001453-1835447400-1835450100@kidworksoc.org
SUMMARY:Visita KidWorks
DESCRIPTION:Nos encanta recibir visitas. Las visitas suelen durar 45 minutos y se realizan en: \nCentro KidWorks Dan Donahue\n1902 W. Chestnut Ave\nSanta Ana\, CA 92703
URL:https://kidworksoc.org/es/event/visita-kidworks/2028-02-29/
LOCATION:KidWorks Dan Donahue Center\, 1902 W Chestnut Ave\, Santa Ana\, CA\, 92703\, United States
ATTACH;FMTTYPE=image/jpeg:https://kidworksoc.org/wp-content/uploads/2023/09/IMG_6637.jpg
END:VEVENT
BEGIN:VEVENT
DTSTART;TZID=America/Los_Angeles:20280301T160000
DTEND;TZID=America/Los_Angeles:20280301T164500
DTSTAMP:20260424T111609
CREATED:20230926T215952Z
LAST-MODIFIED:20230926T215952Z
UID:10003018-1835539200-1835541900@kidworksoc.org
SUMMARY:Visita KidWorks
DESCRIPTION:Nos encanta recibir visitas. Las visitas suelen durar 45 minutos y se realizan en nuestro Centro Dan Donahue. Haga clic AQUÍ para obtener más información e inscribirse. \nCentro KidWorks Dan Donahue\n1902 W. Chestnut Ave\nSanta Ana\, CA 92703
URL:https://kidworksoc.org/es/event/visita-kidworks-2/2028-03-01/
LOCATION:KidWorks Dan Donahue Center\, 1902 W Chestnut Ave\, Santa Ana\, CA\, 92703\, United States
ATTACH;FMTTYPE=image/jpeg:https://kidworksoc.org/wp-content/uploads/2023/02/CAASeniors-Christmas-e1695703920919.jpg
END:VEVENT
BEGIN:VEVENT
DTSTART;TZID=America/Los_Angeles:20280307T143000
DTEND;TZID=America/Los_Angeles:20280307T151500
DTSTAMP:20260424T111609
CREATED:20230926T044638Z
LAST-MODIFIED:20230926T044638Z
UID:10001454-1836052200-1836054900@kidworksoc.org
SUMMARY:Visita KidWorks
DESCRIPTION:Nos encanta recibir visitas. Las visitas suelen durar 45 minutos y se realizan en: \nCentro KidWorks Dan Donahue\n1902 W. Chestnut Ave\nSanta Ana\, CA 92703
URL:https://kidworksoc.org/es/event/visita-kidworks/2028-03-07/
LOCATION:KidWorks Dan Donahue Center\, 1902 W Chestnut Ave\, Santa Ana\, CA\, 92703\, United States
ATTACH;FMTTYPE=image/jpeg:https://kidworksoc.org/wp-content/uploads/2023/09/IMG_6637.jpg
END:VEVENT
BEGIN:VEVENT
DTSTART;TZID=America/Los_Angeles:20280308T160000
DTEND;TZID=America/Los_Angeles:20280308T164500
DTSTAMP:20260424T111609
CREATED:20230926T215952Z
LAST-MODIFIED:20230926T215952Z
UID:10003019-1836144000-1836146700@kidworksoc.org
SUMMARY:Visita KidWorks
DESCRIPTION:Nos encanta recibir visitas. Las visitas suelen durar 45 minutos y se realizan en nuestro Centro Dan Donahue. Haga clic AQUÍ para obtener más información e inscribirse. \nCentro KidWorks Dan Donahue\n1902 W. Chestnut Ave\nSanta Ana\, CA 92703
URL:https://kidworksoc.org/es/event/visita-kidworks-2/2028-03-08/
LOCATION:KidWorks Dan Donahue Center\, 1902 W Chestnut Ave\, Santa Ana\, CA\, 92703\, United States
ATTACH;FMTTYPE=image/jpeg:https://kidworksoc.org/wp-content/uploads/2023/02/CAASeniors-Christmas-e1695703920919.jpg
END:VEVENT
BEGIN:VEVENT
DTSTART;TZID=America/Los_Angeles:20280310T180000
DTEND;TZID=America/Los_Angeles:20280310T210000
DTSTAMP:20260424T111609
CREATED:20240627T164759Z
LAST-MODIFIED:20240711T184044Z
UID:10003672-1836324000-1836334800@kidworksoc.org
SUMMARY:Noches de la Juventud de Secundaria
DESCRIPTION:
URL:https://kidworksoc.org/es/event/noches-de-la-juventud-de-secundaria-2/2028-03-10/
ATTACH;FMTTYPE=image/jpeg:https://kidworksoc.org/wp-content/uploads/2023/02/IMG_9695.jpg
END:VEVENT
BEGIN:VEVENT
DTSTART;TZID=America/Los_Angeles:20280314T143000
DTEND;TZID=America/Los_Angeles:20280314T151500
DTSTAMP:20260424T111609
CREATED:20230926T044638Z
LAST-MODIFIED:20230926T044638Z
UID:10001455-1836657000-1836659700@kidworksoc.org
SUMMARY:Visita KidWorks
DESCRIPTION:Nos encanta recibir visitas. Las visitas suelen durar 45 minutos y se realizan en: \nCentro KidWorks Dan Donahue\n1902 W. Chestnut Ave\nSanta Ana\, CA 92703
URL:https://kidworksoc.org/es/event/visita-kidworks/2028-03-14/
LOCATION:KidWorks Dan Donahue Center\, 1902 W Chestnut Ave\, Santa Ana\, CA\, 92703\, United States
ATTACH;FMTTYPE=image/jpeg:https://kidworksoc.org/wp-content/uploads/2023/09/IMG_6637.jpg
END:VEVENT
BEGIN:VEVENT
DTSTART;TZID=America/Los_Angeles:20280315T160000
DTEND;TZID=America/Los_Angeles:20280315T164500
DTSTAMP:20260424T111609
CREATED:20230926T215952Z
LAST-MODIFIED:20230926T215952Z
UID:10003020-1836748800-1836751500@kidworksoc.org
SUMMARY:Visita KidWorks
DESCRIPTION:Nos encanta recibir visitas. Las visitas suelen durar 45 minutos y se realizan en nuestro Centro Dan Donahue. Haga clic AQUÍ para obtener más información e inscribirse. \nCentro KidWorks Dan Donahue\n1902 W. Chestnut Ave\nSanta Ana\, CA 92703
URL:https://kidworksoc.org/es/event/visita-kidworks-2/2028-03-15/
LOCATION:KidWorks Dan Donahue Center\, 1902 W Chestnut Ave\, Santa Ana\, CA\, 92703\, United States
ATTACH;FMTTYPE=image/jpeg:https://kidworksoc.org/wp-content/uploads/2023/02/CAASeniors-Christmas-e1695703920919.jpg
END:VEVENT
BEGIN:VEVENT
DTSTART;TZID=America/Los_Angeles:20280317T170000
DTEND;TZID=America/Los_Angeles:20280317T190000
DTSTAMP:20260424T111609
CREATED:20230612T232942Z
LAST-MODIFIED:20230612T232942Z
UID:10003593-1836925200-1836932400@kidworksoc.org
SUMMARY:Noches de Juventud en la Escuela Secundaria
DESCRIPTION:
URL:https://kidworksoc.org/es/event/noches-de-juventud-en-la-escuela-secundaria/2028-03-17/
ATTACH;FMTTYPE=image/jpeg:https://kidworksoc.org/wp-content/uploads/2023/05/dGWu68pA.jpeg
END:VEVENT
BEGIN:VEVENT
DTSTART;TZID=America/Los_Angeles:20280321T143000
DTEND;TZID=America/Los_Angeles:20280321T151500
DTSTAMP:20260424T111609
CREATED:20230926T044638Z
LAST-MODIFIED:20230926T044638Z
UID:10001456-1837261800-1837264500@kidworksoc.org
SUMMARY:Visita KidWorks
DESCRIPTION:Nos encanta recibir visitas. Las visitas suelen durar 45 minutos y se realizan en: \nCentro KidWorks Dan Donahue\n1902 W. Chestnut Ave\nSanta Ana\, CA 92703
URL:https://kidworksoc.org/es/event/visita-kidworks/2028-03-21/
LOCATION:KidWorks Dan Donahue Center\, 1902 W Chestnut Ave\, Santa Ana\, CA\, 92703\, United States
ATTACH;FMTTYPE=image/jpeg:https://kidworksoc.org/wp-content/uploads/2023/09/IMG_6637.jpg
END:VEVENT
BEGIN:VEVENT
DTSTART;TZID=America/Los_Angeles:20280322T160000
DTEND;TZID=America/Los_Angeles:20280322T164500
DTSTAMP:20260424T111609
CREATED:20230926T215952Z
LAST-MODIFIED:20230926T215952Z
UID:10003021-1837353600-1837356300@kidworksoc.org
SUMMARY:Visita KidWorks
DESCRIPTION:Nos encanta recibir visitas. Las visitas suelen durar 45 minutos y se realizan en nuestro Centro Dan Donahue. Haga clic AQUÍ para obtener más información e inscribirse. \nCentro KidWorks Dan Donahue\n1902 W. Chestnut Ave\nSanta Ana\, CA 92703
URL:https://kidworksoc.org/es/event/visita-kidworks-2/2028-03-22/
LOCATION:KidWorks Dan Donahue Center\, 1902 W Chestnut Ave\, Santa Ana\, CA\, 92703\, United States
ATTACH;FMTTYPE=image/jpeg:https://kidworksoc.org/wp-content/uploads/2023/02/CAASeniors-Christmas-e1695703920919.jpg
END:VEVENT
BEGIN:VEVENT
DTSTART;TZID=America/Los_Angeles:20280328T143000
DTEND;TZID=America/Los_Angeles:20280328T151500
DTSTAMP:20260424T111609
CREATED:20230926T044638Z
LAST-MODIFIED:20230926T044638Z
UID:10001457-1837866600-1837869300@kidworksoc.org
SUMMARY:Visita KidWorks
DESCRIPTION:Nos encanta recibir visitas. Las visitas suelen durar 45 minutos y se realizan en: \nCentro KidWorks Dan Donahue\n1902 W. Chestnut Ave\nSanta Ana\, CA 92703
URL:https://kidworksoc.org/es/event/visita-kidworks/2028-03-28/
LOCATION:KidWorks Dan Donahue Center\, 1902 W Chestnut Ave\, Santa Ana\, CA\, 92703\, United States
ATTACH;FMTTYPE=image/jpeg:https://kidworksoc.org/wp-content/uploads/2023/09/IMG_6637.jpg
END:VEVENT
BEGIN:VEVENT
DTSTART;TZID=America/Los_Angeles:20280329T160000
DTEND;TZID=America/Los_Angeles:20280329T164500
DTSTAMP:20260424T111609
CREATED:20230926T215952Z
LAST-MODIFIED:20230926T215952Z
UID:10003022-1837958400-1837961100@kidworksoc.org
SUMMARY:Visita KidWorks
DESCRIPTION:Nos encanta recibir visitas. Las visitas suelen durar 45 minutos y se realizan en nuestro Centro Dan Donahue. Haga clic AQUÍ para obtener más información e inscribirse. \nCentro KidWorks Dan Donahue\n1902 W. Chestnut Ave\nSanta Ana\, CA 92703
URL:https://kidworksoc.org/es/event/visita-kidworks-2/2028-03-29/
LOCATION:KidWorks Dan Donahue Center\, 1902 W Chestnut Ave\, Santa Ana\, CA\, 92703\, United States
ATTACH;FMTTYPE=image/jpeg:https://kidworksoc.org/wp-content/uploads/2023/02/CAASeniors-Christmas-e1695703920919.jpg
END:VEVENT
BEGIN:VEVENT
DTSTART;TZID=America/Los_Angeles:20280404T143000
DTEND;TZID=America/Los_Angeles:20280404T151500
DTSTAMP:20260424T111609
CREATED:20230926T044638Z
LAST-MODIFIED:20230926T044638Z
UID:10001458-1838471400-1838474100@kidworksoc.org
SUMMARY:Visita KidWorks
DESCRIPTION:Nos encanta recibir visitas. Las visitas suelen durar 45 minutos y se realizan en: \nCentro KidWorks Dan Donahue\n1902 W. Chestnut Ave\nSanta Ana\, CA 92703
URL:https://kidworksoc.org/es/event/visita-kidworks/2028-04-04/
LOCATION:KidWorks Dan Donahue Center\, 1902 W Chestnut Ave\, Santa Ana\, CA\, 92703\, United States
ATTACH;FMTTYPE=image/jpeg:https://kidworksoc.org/wp-content/uploads/2023/09/IMG_6637.jpg
END:VEVENT
BEGIN:VEVENT
DTSTART;TZID=America/Los_Angeles:20280405T160000
DTEND;TZID=America/Los_Angeles:20280405T164500
DTSTAMP:20260424T111609
CREATED:20230926T215952Z
LAST-MODIFIED:20230926T215952Z
UID:10003023-1838563200-1838565900@kidworksoc.org
SUMMARY:Visita KidWorks
DESCRIPTION:Nos encanta recibir visitas. Las visitas suelen durar 45 minutos y se realizan en nuestro Centro Dan Donahue. Haga clic AQUÍ para obtener más información e inscribirse. \nCentro KidWorks Dan Donahue\n1902 W. Chestnut Ave\nSanta Ana\, CA 92703
URL:https://kidworksoc.org/es/event/visita-kidworks-2/2028-04-05/
LOCATION:KidWorks Dan Donahue Center\, 1902 W Chestnut Ave\, Santa Ana\, CA\, 92703\, United States
ATTACH;FMTTYPE=image/jpeg:https://kidworksoc.org/wp-content/uploads/2023/02/CAASeniors-Christmas-e1695703920919.jpg
END:VEVENT
BEGIN:VEVENT
DTSTART;TZID=America/Los_Angeles:20280411T143000
DTEND;TZID=America/Los_Angeles:20280411T151500
DTSTAMP:20260424T111609
CREATED:20230926T044638Z
LAST-MODIFIED:20230926T044638Z
UID:10001459-1839076200-1839078900@kidworksoc.org
SUMMARY:Visita KidWorks
DESCRIPTION:Nos encanta recibir visitas. Las visitas suelen durar 45 minutos y se realizan en: \nCentro KidWorks Dan Donahue\n1902 W. Chestnut Ave\nSanta Ana\, CA 92703
URL:https://kidworksoc.org/es/event/visita-kidworks/2028-04-11/
LOCATION:KidWorks Dan Donahue Center\, 1902 W Chestnut Ave\, Santa Ana\, CA\, 92703\, United States
ATTACH;FMTTYPE=image/jpeg:https://kidworksoc.org/wp-content/uploads/2023/09/IMG_6637.jpg
END:VEVENT
BEGIN:VEVENT
DTSTART;TZID=America/Los_Angeles:20280412T160000
DTEND;TZID=America/Los_Angeles:20280412T164500
DTSTAMP:20260424T111609
CREATED:20230926T215952Z
LAST-MODIFIED:20230926T215952Z
UID:10003024-1839168000-1839170700@kidworksoc.org
SUMMARY:Visita KidWorks
DESCRIPTION:Nos encanta recibir visitas. Las visitas suelen durar 45 minutos y se realizan en nuestro Centro Dan Donahue. Haga clic AQUÍ para obtener más información e inscribirse. \nCentro KidWorks Dan Donahue\n1902 W. Chestnut Ave\nSanta Ana\, CA 92703
URL:https://kidworksoc.org/es/event/visita-kidworks-2/2028-04-12/
LOCATION:KidWorks Dan Donahue Center\, 1902 W Chestnut Ave\, Santa Ana\, CA\, 92703\, United States
ATTACH;FMTTYPE=image/jpeg:https://kidworksoc.org/wp-content/uploads/2023/02/CAASeniors-Christmas-e1695703920919.jpg
END:VEVENT
BEGIN:VEVENT
DTSTART;TZID=America/Los_Angeles:20280414T180000
DTEND;TZID=America/Los_Angeles:20280414T210000
DTSTAMP:20260424T111609
CREATED:20240627T164759Z
LAST-MODIFIED:20240711T184044Z
UID:10003673-1839348000-1839358800@kidworksoc.org
SUMMARY:Noches de la Juventud de Secundaria
DESCRIPTION:
URL:https://kidworksoc.org/es/event/noches-de-la-juventud-de-secundaria-2/2028-04-14/
ATTACH;FMTTYPE=image/jpeg:https://kidworksoc.org/wp-content/uploads/2023/02/IMG_9695.jpg
END:VEVENT
BEGIN:VEVENT
DTSTART;TZID=America/Los_Angeles:20280418T143000
DTEND;TZID=America/Los_Angeles:20280418T151500
DTSTAMP:20260424T111609
CREATED:20230926T044638Z
LAST-MODIFIED:20230926T044638Z
UID:10001460-1839681000-1839683700@kidworksoc.org
SUMMARY:Visita KidWorks
DESCRIPTION:Nos encanta recibir visitas. Las visitas suelen durar 45 minutos y se realizan en: \nCentro KidWorks Dan Donahue\n1902 W. Chestnut Ave\nSanta Ana\, CA 92703
URL:https://kidworksoc.org/es/event/visita-kidworks/2028-04-18/
LOCATION:KidWorks Dan Donahue Center\, 1902 W Chestnut Ave\, Santa Ana\, CA\, 92703\, United States
ATTACH;FMTTYPE=image/jpeg:https://kidworksoc.org/wp-content/uploads/2023/09/IMG_6637.jpg
END:VEVENT
BEGIN:VEVENT
DTSTART;TZID=America/Los_Angeles:20280419T160000
DTEND;TZID=America/Los_Angeles:20280419T164500
DTSTAMP:20260424T111609
CREATED:20230926T215952Z
LAST-MODIFIED:20230926T215952Z
UID:10003025-1839772800-1839775500@kidworksoc.org
SUMMARY:Visita KidWorks
DESCRIPTION:Nos encanta recibir visitas. Las visitas suelen durar 45 minutos y se realizan en nuestro Centro Dan Donahue. Haga clic AQUÍ para obtener más información e inscribirse. \nCentro KidWorks Dan Donahue\n1902 W. Chestnut Ave\nSanta Ana\, CA 92703
URL:https://kidworksoc.org/es/event/visita-kidworks-2/2028-04-19/
LOCATION:KidWorks Dan Donahue Center\, 1902 W Chestnut Ave\, Santa Ana\, CA\, 92703\, United States
ATTACH;FMTTYPE=image/jpeg:https://kidworksoc.org/wp-content/uploads/2023/02/CAASeniors-Christmas-e1695703920919.jpg
END:VEVENT
END:VCALENDAR