BEGIN:VCALENDAR
VERSION:2.0
PRODID:-//KidWorks - ECPv6.15.20//NONSGML v1.0//EN
CALSCALE:GREGORIAN
METHOD:PUBLISH
X-ORIGINAL-URL:https://kidworksoc.org/es/
X-WR-CALDESC:Eventos para KidWorks
REFRESH-INTERVAL;VALUE=DURATION:PT1H
X-Robots-Tag:noindex
X-PUBLISHED-TTL:PT1H
BEGIN:VTIMEZONE
TZID:America/Los_Angeles
BEGIN:DAYLIGHT
TZOFFSETFROM:-0800
TZOFFSETTO:-0700
TZNAME:PDT
DTSTART:20260308T100000
END:DAYLIGHT
BEGIN:STANDARD
TZOFFSETFROM:-0700
TZOFFSETTO:-0800
TZNAME:PST
DTSTART:20261101T090000
END:STANDARD
BEGIN:DAYLIGHT
TZOFFSETFROM:-0800
TZOFFSETTO:-0700
TZNAME:PDT
DTSTART:20270314T100000
END:DAYLIGHT
BEGIN:STANDARD
TZOFFSETFROM:-0700
TZOFFSETTO:-0800
TZNAME:PST
DTSTART:20271107T090000
END:STANDARD
BEGIN:DAYLIGHT
TZOFFSETFROM:-0800
TZOFFSETTO:-0700
TZNAME:PDT
DTSTART:20280312T100000
END:DAYLIGHT
BEGIN:STANDARD
TZOFFSETFROM:-0700
TZOFFSETTO:-0800
TZNAME:PST
DTSTART:20281105T090000
END:STANDARD
END:VTIMEZONE
BEGIN:VEVENT
DTSTART;TZID=America/Los_Angeles:20270825T160000
DTEND;TZID=America/Los_Angeles:20270825T164500
DTSTAMP:20260424T030849
CREATED:20230926T215952Z
LAST-MODIFIED:20230926T215952Z
UID:10002991-1819209600-1819212300@kidworksoc.org
SUMMARY:Visita KidWorks
DESCRIPTION:Nos encanta recibir visitas. Las visitas suelen durar 45 minutos y se realizan en nuestro Centro Dan Donahue. Haga clic AQUÍ para obtener más información e inscribirse. \nCentro KidWorks Dan Donahue\n1902 W. Chestnut Ave\nSanta Ana\, CA 92703
URL:https://kidworksoc.org/es/event/visita-kidworks-2/2027-08-25/
LOCATION:KidWorks Dan Donahue Center\, 1902 W Chestnut Ave\, Santa Ana\, CA\, 92703\, United States
ATTACH;FMTTYPE=image/jpeg:https://kidworksoc.org/wp-content/uploads/2023/02/CAASeniors-Christmas-e1695703920919.jpg
END:VEVENT
BEGIN:VEVENT
DTSTART;TZID=America/Los_Angeles:20270831T143000
DTEND;TZID=America/Los_Angeles:20270831T151500
DTSTAMP:20260424T030849
CREATED:20230926T044638Z
LAST-MODIFIED:20230926T044638Z
UID:10001427-1819722600-1819725300@kidworksoc.org
SUMMARY:Visita KidWorks
DESCRIPTION:Nos encanta recibir visitas. Las visitas suelen durar 45 minutos y se realizan en: \nCentro KidWorks Dan Donahue\n1902 W. Chestnut Ave\nSanta Ana\, CA 92703
URL:https://kidworksoc.org/es/event/visita-kidworks/2027-08-31/
LOCATION:KidWorks Dan Donahue Center\, 1902 W Chestnut Ave\, Santa Ana\, CA\, 92703\, United States
ATTACH;FMTTYPE=image/jpeg:https://kidworksoc.org/wp-content/uploads/2023/09/IMG_6637.jpg
END:VEVENT
BEGIN:VEVENT
DTSTART;TZID=America/Los_Angeles:20270901T160000
DTEND;TZID=America/Los_Angeles:20270901T164500
DTSTAMP:20260424T030849
CREATED:20230926T215952Z
LAST-MODIFIED:20230926T215952Z
UID:10002992-1819814400-1819817100@kidworksoc.org
SUMMARY:Visita KidWorks
DESCRIPTION:Nos encanta recibir visitas. Las visitas suelen durar 45 minutos y se realizan en nuestro Centro Dan Donahue. Haga clic AQUÍ para obtener más información e inscribirse. \nCentro KidWorks Dan Donahue\n1902 W. Chestnut Ave\nSanta Ana\, CA 92703
URL:https://kidworksoc.org/es/event/visita-kidworks-2/2027-09-01/
LOCATION:KidWorks Dan Donahue Center\, 1902 W Chestnut Ave\, Santa Ana\, CA\, 92703\, United States
ATTACH;FMTTYPE=image/jpeg:https://kidworksoc.org/wp-content/uploads/2023/02/CAASeniors-Christmas-e1695703920919.jpg
END:VEVENT
BEGIN:VEVENT
DTSTART;TZID=America/Los_Angeles:20270907T143000
DTEND;TZID=America/Los_Angeles:20270907T151500
DTSTAMP:20260424T030849
CREATED:20230926T044638Z
LAST-MODIFIED:20230926T044638Z
UID:10001428-1820327400-1820330100@kidworksoc.org
SUMMARY:Visita KidWorks
DESCRIPTION:Nos encanta recibir visitas. Las visitas suelen durar 45 minutos y se realizan en: \nCentro KidWorks Dan Donahue\n1902 W. Chestnut Ave\nSanta Ana\, CA 92703
URL:https://kidworksoc.org/es/event/visita-kidworks/2027-09-07/
LOCATION:KidWorks Dan Donahue Center\, 1902 W Chestnut Ave\, Santa Ana\, CA\, 92703\, United States
ATTACH;FMTTYPE=image/jpeg:https://kidworksoc.org/wp-content/uploads/2023/09/IMG_6637.jpg
END:VEVENT
BEGIN:VEVENT
DTSTART;TZID=America/Los_Angeles:20270908T160000
DTEND;TZID=America/Los_Angeles:20270908T164500
DTSTAMP:20260424T030849
CREATED:20230926T215952Z
LAST-MODIFIED:20230926T215952Z
UID:10002993-1820419200-1820421900@kidworksoc.org
SUMMARY:Visita KidWorks
DESCRIPTION:Nos encanta recibir visitas. Las visitas suelen durar 45 minutos y se realizan en nuestro Centro Dan Donahue. Haga clic AQUÍ para obtener más información e inscribirse. \nCentro KidWorks Dan Donahue\n1902 W. Chestnut Ave\nSanta Ana\, CA 92703
URL:https://kidworksoc.org/es/event/visita-kidworks-2/2027-09-08/
LOCATION:KidWorks Dan Donahue Center\, 1902 W Chestnut Ave\, Santa Ana\, CA\, 92703\, United States
ATTACH;FMTTYPE=image/jpeg:https://kidworksoc.org/wp-content/uploads/2023/02/CAASeniors-Christmas-e1695703920919.jpg
END:VEVENT
BEGIN:VEVENT
DTSTART;TZID=America/Los_Angeles:20270910T180000
DTEND;TZID=America/Los_Angeles:20270910T210000
DTSTAMP:20260424T030849
CREATED:20240627T164759Z
LAST-MODIFIED:20240711T184044Z
UID:10003666-1820599200-1820610000@kidworksoc.org
SUMMARY:Noches de la Juventud de Secundaria
DESCRIPTION:
URL:https://kidworksoc.org/es/event/noches-de-la-juventud-de-secundaria-2/2027-09-10/
ATTACH;FMTTYPE=image/jpeg:https://kidworksoc.org/wp-content/uploads/2023/02/IMG_9695.jpg
END:VEVENT
BEGIN:VEVENT
DTSTART;TZID=America/Los_Angeles:20270914T143000
DTEND;TZID=America/Los_Angeles:20270914T151500
DTSTAMP:20260424T030849
CREATED:20230926T044638Z
LAST-MODIFIED:20230926T044638Z
UID:10001429-1820932200-1820934900@kidworksoc.org
SUMMARY:Visita KidWorks
DESCRIPTION:Nos encanta recibir visitas. Las visitas suelen durar 45 minutos y se realizan en: \nCentro KidWorks Dan Donahue\n1902 W. Chestnut Ave\nSanta Ana\, CA 92703
URL:https://kidworksoc.org/es/event/visita-kidworks/2027-09-14/
LOCATION:KidWorks Dan Donahue Center\, 1902 W Chestnut Ave\, Santa Ana\, CA\, 92703\, United States
ATTACH;FMTTYPE=image/jpeg:https://kidworksoc.org/wp-content/uploads/2023/09/IMG_6637.jpg
END:VEVENT
BEGIN:VEVENT
DTSTART;TZID=America/Los_Angeles:20270915T160000
DTEND;TZID=America/Los_Angeles:20270915T164500
DTSTAMP:20260424T030849
CREATED:20230926T215952Z
LAST-MODIFIED:20230926T215952Z
UID:10002994-1821024000-1821026700@kidworksoc.org
SUMMARY:Visita KidWorks
DESCRIPTION:Nos encanta recibir visitas. Las visitas suelen durar 45 minutos y se realizan en nuestro Centro Dan Donahue. Haga clic AQUÍ para obtener más información e inscribirse. \nCentro KidWorks Dan Donahue\n1902 W. Chestnut Ave\nSanta Ana\, CA 92703
URL:https://kidworksoc.org/es/event/visita-kidworks-2/2027-09-15/
LOCATION:KidWorks Dan Donahue Center\, 1902 W Chestnut Ave\, Santa Ana\, CA\, 92703\, United States
ATTACH;FMTTYPE=image/jpeg:https://kidworksoc.org/wp-content/uploads/2023/02/CAASeniors-Christmas-e1695703920919.jpg
END:VEVENT
BEGIN:VEVENT
DTSTART;TZID=America/Los_Angeles:20270917T170000
DTEND;TZID=America/Los_Angeles:20270917T190000
DTSTAMP:20260424T030849
CREATED:20230612T232942Z
LAST-MODIFIED:20230612T232942Z
UID:10003587-1821200400-1821207600@kidworksoc.org
SUMMARY:Noches de Juventud en la Escuela Secundaria
DESCRIPTION:
URL:https://kidworksoc.org/es/event/noches-de-juventud-en-la-escuela-secundaria/2027-09-17/
ATTACH;FMTTYPE=image/jpeg:https://kidworksoc.org/wp-content/uploads/2023/05/dGWu68pA.jpeg
END:VEVENT
BEGIN:VEVENT
DTSTART;TZID=America/Los_Angeles:20270921T143000
DTEND;TZID=America/Los_Angeles:20270921T151500
DTSTAMP:20260424T030849
CREATED:20230926T044638Z
LAST-MODIFIED:20230926T044638Z
UID:10001430-1821537000-1821539700@kidworksoc.org
SUMMARY:Visita KidWorks
DESCRIPTION:Nos encanta recibir visitas. Las visitas suelen durar 45 minutos y se realizan en: \nCentro KidWorks Dan Donahue\n1902 W. Chestnut Ave\nSanta Ana\, CA 92703
URL:https://kidworksoc.org/es/event/visita-kidworks/2027-09-21/
LOCATION:KidWorks Dan Donahue Center\, 1902 W Chestnut Ave\, Santa Ana\, CA\, 92703\, United States
ATTACH;FMTTYPE=image/jpeg:https://kidworksoc.org/wp-content/uploads/2023/09/IMG_6637.jpg
END:VEVENT
BEGIN:VEVENT
DTSTART;TZID=America/Los_Angeles:20270922T160000
DTEND;TZID=America/Los_Angeles:20270922T164500
DTSTAMP:20260424T030849
CREATED:20230926T215952Z
LAST-MODIFIED:20230926T215952Z
UID:10002995-1821628800-1821631500@kidworksoc.org
SUMMARY:Visita KidWorks
DESCRIPTION:Nos encanta recibir visitas. Las visitas suelen durar 45 minutos y se realizan en nuestro Centro Dan Donahue. Haga clic AQUÍ para obtener más información e inscribirse. \nCentro KidWorks Dan Donahue\n1902 W. Chestnut Ave\nSanta Ana\, CA 92703
URL:https://kidworksoc.org/es/event/visita-kidworks-2/2027-09-22/
LOCATION:KidWorks Dan Donahue Center\, 1902 W Chestnut Ave\, Santa Ana\, CA\, 92703\, United States
ATTACH;FMTTYPE=image/jpeg:https://kidworksoc.org/wp-content/uploads/2023/02/CAASeniors-Christmas-e1695703920919.jpg
END:VEVENT
BEGIN:VEVENT
DTSTART;TZID=America/Los_Angeles:20270928T143000
DTEND;TZID=America/Los_Angeles:20270928T151500
DTSTAMP:20260424T030849
CREATED:20230926T044638Z
LAST-MODIFIED:20230926T044638Z
UID:10001431-1822141800-1822144500@kidworksoc.org
SUMMARY:Visita KidWorks
DESCRIPTION:Nos encanta recibir visitas. Las visitas suelen durar 45 minutos y se realizan en: \nCentro KidWorks Dan Donahue\n1902 W. Chestnut Ave\nSanta Ana\, CA 92703
URL:https://kidworksoc.org/es/event/visita-kidworks/2027-09-28/
LOCATION:KidWorks Dan Donahue Center\, 1902 W Chestnut Ave\, Santa Ana\, CA\, 92703\, United States
ATTACH;FMTTYPE=image/jpeg:https://kidworksoc.org/wp-content/uploads/2023/09/IMG_6637.jpg
END:VEVENT
BEGIN:VEVENT
DTSTART;TZID=America/Los_Angeles:20270929T160000
DTEND;TZID=America/Los_Angeles:20270929T164500
DTSTAMP:20260424T030849
CREATED:20230926T215952Z
LAST-MODIFIED:20230926T215952Z
UID:10002996-1822233600-1822236300@kidworksoc.org
SUMMARY:Visita KidWorks
DESCRIPTION:Nos encanta recibir visitas. Las visitas suelen durar 45 minutos y se realizan en nuestro Centro Dan Donahue. Haga clic AQUÍ para obtener más información e inscribirse. \nCentro KidWorks Dan Donahue\n1902 W. Chestnut Ave\nSanta Ana\, CA 92703
URL:https://kidworksoc.org/es/event/visita-kidworks-2/2027-09-29/
LOCATION:KidWorks Dan Donahue Center\, 1902 W Chestnut Ave\, Santa Ana\, CA\, 92703\, United States
ATTACH;FMTTYPE=image/jpeg:https://kidworksoc.org/wp-content/uploads/2023/02/CAASeniors-Christmas-e1695703920919.jpg
END:VEVENT
BEGIN:VEVENT
DTSTART;TZID=America/Los_Angeles:20271005T143000
DTEND;TZID=America/Los_Angeles:20271005T151500
DTSTAMP:20260424T030849
CREATED:20230926T044638Z
LAST-MODIFIED:20230926T044638Z
UID:10001432-1822746600-1822749300@kidworksoc.org
SUMMARY:Visita KidWorks
DESCRIPTION:Nos encanta recibir visitas. Las visitas suelen durar 45 minutos y se realizan en: \nCentro KidWorks Dan Donahue\n1902 W. Chestnut Ave\nSanta Ana\, CA 92703
URL:https://kidworksoc.org/es/event/visita-kidworks/2027-10-05/
LOCATION:KidWorks Dan Donahue Center\, 1902 W Chestnut Ave\, Santa Ana\, CA\, 92703\, United States
ATTACH;FMTTYPE=image/jpeg:https://kidworksoc.org/wp-content/uploads/2023/09/IMG_6637.jpg
END:VEVENT
BEGIN:VEVENT
DTSTART;TZID=America/Los_Angeles:20271006T160000
DTEND;TZID=America/Los_Angeles:20271006T164500
DTSTAMP:20260424T030849
CREATED:20230926T215952Z
LAST-MODIFIED:20230926T215952Z
UID:10002997-1822838400-1822841100@kidworksoc.org
SUMMARY:Visita KidWorks
DESCRIPTION:Nos encanta recibir visitas. Las visitas suelen durar 45 minutos y se realizan en nuestro Centro Dan Donahue. Haga clic AQUÍ para obtener más información e inscribirse. \nCentro KidWorks Dan Donahue\n1902 W. Chestnut Ave\nSanta Ana\, CA 92703
URL:https://kidworksoc.org/es/event/visita-kidworks-2/2027-10-06/
LOCATION:KidWorks Dan Donahue Center\, 1902 W Chestnut Ave\, Santa Ana\, CA\, 92703\, United States
ATTACH;FMTTYPE=image/jpeg:https://kidworksoc.org/wp-content/uploads/2023/02/CAASeniors-Christmas-e1695703920919.jpg
END:VEVENT
BEGIN:VEVENT
DTSTART;TZID=America/Los_Angeles:20271008T180000
DTEND;TZID=America/Los_Angeles:20271008T210000
DTSTAMP:20260424T030849
CREATED:20240627T164759Z
LAST-MODIFIED:20240711T184044Z
UID:10003667-1823018400-1823029200@kidworksoc.org
SUMMARY:Noches de la Juventud de Secundaria
DESCRIPTION:
URL:https://kidworksoc.org/es/event/noches-de-la-juventud-de-secundaria-2/2027-10-08/
ATTACH;FMTTYPE=image/jpeg:https://kidworksoc.org/wp-content/uploads/2023/02/IMG_9695.jpg
END:VEVENT
BEGIN:VEVENT
DTSTART;TZID=America/Los_Angeles:20271012T143000
DTEND;TZID=America/Los_Angeles:20271012T151500
DTSTAMP:20260424T030849
CREATED:20230926T044638Z
LAST-MODIFIED:20230926T044638Z
UID:10001433-1823351400-1823354100@kidworksoc.org
SUMMARY:Visita KidWorks
DESCRIPTION:Nos encanta recibir visitas. Las visitas suelen durar 45 minutos y se realizan en: \nCentro KidWorks Dan Donahue\n1902 W. Chestnut Ave\nSanta Ana\, CA 92703
URL:https://kidworksoc.org/es/event/visita-kidworks/2027-10-12/
LOCATION:KidWorks Dan Donahue Center\, 1902 W Chestnut Ave\, Santa Ana\, CA\, 92703\, United States
ATTACH;FMTTYPE=image/jpeg:https://kidworksoc.org/wp-content/uploads/2023/09/IMG_6637.jpg
END:VEVENT
BEGIN:VEVENT
DTSTART;TZID=America/Los_Angeles:20271013T160000
DTEND;TZID=America/Los_Angeles:20271013T164500
DTSTAMP:20260424T030849
CREATED:20230926T215952Z
LAST-MODIFIED:20230926T215952Z
UID:10002998-1823443200-1823445900@kidworksoc.org
SUMMARY:Visita KidWorks
DESCRIPTION:Nos encanta recibir visitas. Las visitas suelen durar 45 minutos y se realizan en nuestro Centro Dan Donahue. Haga clic AQUÍ para obtener más información e inscribirse. \nCentro KidWorks Dan Donahue\n1902 W. Chestnut Ave\nSanta Ana\, CA 92703
URL:https://kidworksoc.org/es/event/visita-kidworks-2/2027-10-13/
LOCATION:KidWorks Dan Donahue Center\, 1902 W Chestnut Ave\, Santa Ana\, CA\, 92703\, United States
ATTACH;FMTTYPE=image/jpeg:https://kidworksoc.org/wp-content/uploads/2023/02/CAASeniors-Christmas-e1695703920919.jpg
END:VEVENT
BEGIN:VEVENT
DTSTART;TZID=America/Los_Angeles:20271015T170000
DTEND;TZID=America/Los_Angeles:20271015T190000
DTSTAMP:20260424T030849
CREATED:20230612T232942Z
LAST-MODIFIED:20230612T232942Z
UID:10003588-1823619600-1823626800@kidworksoc.org
SUMMARY:Noches de Juventud en la Escuela Secundaria
DESCRIPTION:
URL:https://kidworksoc.org/es/event/noches-de-juventud-en-la-escuela-secundaria/2027-10-15/
ATTACH;FMTTYPE=image/jpeg:https://kidworksoc.org/wp-content/uploads/2023/05/dGWu68pA.jpeg
END:VEVENT
BEGIN:VEVENT
DTSTART;TZID=America/Los_Angeles:20271019T143000
DTEND;TZID=America/Los_Angeles:20271019T151500
DTSTAMP:20260424T030849
CREATED:20230926T044638Z
LAST-MODIFIED:20230926T044638Z
UID:10001434-1823956200-1823958900@kidworksoc.org
SUMMARY:Visita KidWorks
DESCRIPTION:Nos encanta recibir visitas. Las visitas suelen durar 45 minutos y se realizan en: \nCentro KidWorks Dan Donahue\n1902 W. Chestnut Ave\nSanta Ana\, CA 92703
URL:https://kidworksoc.org/es/event/visita-kidworks/2027-10-19/
LOCATION:KidWorks Dan Donahue Center\, 1902 W Chestnut Ave\, Santa Ana\, CA\, 92703\, United States
ATTACH;FMTTYPE=image/jpeg:https://kidworksoc.org/wp-content/uploads/2023/09/IMG_6637.jpg
END:VEVENT
BEGIN:VEVENT
DTSTART;TZID=America/Los_Angeles:20271020T160000
DTEND;TZID=America/Los_Angeles:20271020T164500
DTSTAMP:20260424T030849
CREATED:20230926T215952Z
LAST-MODIFIED:20230926T215952Z
UID:10002999-1824048000-1824050700@kidworksoc.org
SUMMARY:Visita KidWorks
DESCRIPTION:Nos encanta recibir visitas. Las visitas suelen durar 45 minutos y se realizan en nuestro Centro Dan Donahue. Haga clic AQUÍ para obtener más información e inscribirse. \nCentro KidWorks Dan Donahue\n1902 W. Chestnut Ave\nSanta Ana\, CA 92703
URL:https://kidworksoc.org/es/event/visita-kidworks-2/2027-10-20/
LOCATION:KidWorks Dan Donahue Center\, 1902 W Chestnut Ave\, Santa Ana\, CA\, 92703\, United States
ATTACH;FMTTYPE=image/jpeg:https://kidworksoc.org/wp-content/uploads/2023/02/CAASeniors-Christmas-e1695703920919.jpg
END:VEVENT
BEGIN:VEVENT
DTSTART;TZID=America/Los_Angeles:20271026T143000
DTEND;TZID=America/Los_Angeles:20271026T151500
DTSTAMP:20260424T030849
CREATED:20230926T044638Z
LAST-MODIFIED:20230926T044638Z
UID:10001435-1824561000-1824563700@kidworksoc.org
SUMMARY:Visita KidWorks
DESCRIPTION:Nos encanta recibir visitas. Las visitas suelen durar 45 minutos y se realizan en: \nCentro KidWorks Dan Donahue\n1902 W. Chestnut Ave\nSanta Ana\, CA 92703
URL:https://kidworksoc.org/es/event/visita-kidworks/2027-10-26/
LOCATION:KidWorks Dan Donahue Center\, 1902 W Chestnut Ave\, Santa Ana\, CA\, 92703\, United States
ATTACH;FMTTYPE=image/jpeg:https://kidworksoc.org/wp-content/uploads/2023/09/IMG_6637.jpg
END:VEVENT
BEGIN:VEVENT
DTSTART;TZID=America/Los_Angeles:20271027T160000
DTEND;TZID=America/Los_Angeles:20271027T164500
DTSTAMP:20260424T030849
CREATED:20230926T215952Z
LAST-MODIFIED:20230926T215952Z
UID:10003000-1824652800-1824655500@kidworksoc.org
SUMMARY:Visita KidWorks
DESCRIPTION:Nos encanta recibir visitas. Las visitas suelen durar 45 minutos y se realizan en nuestro Centro Dan Donahue. Haga clic AQUÍ para obtener más información e inscribirse. \nCentro KidWorks Dan Donahue\n1902 W. Chestnut Ave\nSanta Ana\, CA 92703
URL:https://kidworksoc.org/es/event/visita-kidworks-2/2027-10-27/
LOCATION:KidWorks Dan Donahue Center\, 1902 W Chestnut Ave\, Santa Ana\, CA\, 92703\, United States
ATTACH;FMTTYPE=image/jpeg:https://kidworksoc.org/wp-content/uploads/2023/02/CAASeniors-Christmas-e1695703920919.jpg
END:VEVENT
BEGIN:VEVENT
DTSTART;TZID=America/Los_Angeles:20271102T143000
DTEND;TZID=America/Los_Angeles:20271102T151500
DTSTAMP:20260424T030849
CREATED:20230926T044638Z
LAST-MODIFIED:20230926T044638Z
UID:10001436-1825165800-1825168500@kidworksoc.org
SUMMARY:Visita KidWorks
DESCRIPTION:Nos encanta recibir visitas. Las visitas suelen durar 45 minutos y se realizan en: \nCentro KidWorks Dan Donahue\n1902 W. Chestnut Ave\nSanta Ana\, CA 92703
URL:https://kidworksoc.org/es/event/visita-kidworks/2027-11-02/
LOCATION:KidWorks Dan Donahue Center\, 1902 W Chestnut Ave\, Santa Ana\, CA\, 92703\, United States
ATTACH;FMTTYPE=image/jpeg:https://kidworksoc.org/wp-content/uploads/2023/09/IMG_6637.jpg
END:VEVENT
BEGIN:VEVENT
DTSTART;TZID=America/Los_Angeles:20271103T160000
DTEND;TZID=America/Los_Angeles:20271103T164500
DTSTAMP:20260424T030849
CREATED:20230926T215952Z
LAST-MODIFIED:20230926T215952Z
UID:10003001-1825257600-1825260300@kidworksoc.org
SUMMARY:Visita KidWorks
DESCRIPTION:Nos encanta recibir visitas. Las visitas suelen durar 45 minutos y se realizan en nuestro Centro Dan Donahue. Haga clic AQUÍ para obtener más información e inscribirse. \nCentro KidWorks Dan Donahue\n1902 W. Chestnut Ave\nSanta Ana\, CA 92703
URL:https://kidworksoc.org/es/event/visita-kidworks-2/2027-11-03/
LOCATION:KidWorks Dan Donahue Center\, 1902 W Chestnut Ave\, Santa Ana\, CA\, 92703\, United States
ATTACH;FMTTYPE=image/jpeg:https://kidworksoc.org/wp-content/uploads/2023/02/CAASeniors-Christmas-e1695703920919.jpg
END:VEVENT
BEGIN:VEVENT
DTSTART;TZID=America/Los_Angeles:20271109T143000
DTEND;TZID=America/Los_Angeles:20271109T151500
DTSTAMP:20260424T030849
CREATED:20230926T044638Z
LAST-MODIFIED:20230926T044638Z
UID:10001437-1825770600-1825773300@kidworksoc.org
SUMMARY:Visita KidWorks
DESCRIPTION:Nos encanta recibir visitas. Las visitas suelen durar 45 minutos y se realizan en: \nCentro KidWorks Dan Donahue\n1902 W. Chestnut Ave\nSanta Ana\, CA 92703
URL:https://kidworksoc.org/es/event/visita-kidworks/2027-11-09/
LOCATION:KidWorks Dan Donahue Center\, 1902 W Chestnut Ave\, Santa Ana\, CA\, 92703\, United States
ATTACH;FMTTYPE=image/jpeg:https://kidworksoc.org/wp-content/uploads/2023/09/IMG_6637.jpg
END:VEVENT
BEGIN:VEVENT
DTSTART;TZID=America/Los_Angeles:20271110T160000
DTEND;TZID=America/Los_Angeles:20271110T164500
DTSTAMP:20260424T030849
CREATED:20230926T215952Z
LAST-MODIFIED:20230926T215952Z
UID:10003002-1825862400-1825865100@kidworksoc.org
SUMMARY:Visita KidWorks
DESCRIPTION:Nos encanta recibir visitas. Las visitas suelen durar 45 minutos y se realizan en nuestro Centro Dan Donahue. Haga clic AQUÍ para obtener más información e inscribirse. \nCentro KidWorks Dan Donahue\n1902 W. Chestnut Ave\nSanta Ana\, CA 92703
URL:https://kidworksoc.org/es/event/visita-kidworks-2/2027-11-10/
LOCATION:KidWorks Dan Donahue Center\, 1902 W Chestnut Ave\, Santa Ana\, CA\, 92703\, United States
ATTACH;FMTTYPE=image/jpeg:https://kidworksoc.org/wp-content/uploads/2023/02/CAASeniors-Christmas-e1695703920919.jpg
END:VEVENT
BEGIN:VEVENT
DTSTART;TZID=America/Los_Angeles:20271112T180000
DTEND;TZID=America/Los_Angeles:20271112T210000
DTSTAMP:20260424T030849
CREATED:20240627T164759Z
LAST-MODIFIED:20240711T184044Z
UID:10003668-1826042400-1826053200@kidworksoc.org
SUMMARY:Noches de la Juventud de Secundaria
DESCRIPTION:
URL:https://kidworksoc.org/es/event/noches-de-la-juventud-de-secundaria-2/2027-11-12/
ATTACH;FMTTYPE=image/jpeg:https://kidworksoc.org/wp-content/uploads/2023/02/IMG_9695.jpg
END:VEVENT
BEGIN:VEVENT
DTSTART;TZID=America/Los_Angeles:20271116T143000
DTEND;TZID=America/Los_Angeles:20271116T151500
DTSTAMP:20260424T030849
CREATED:20230926T044638Z
LAST-MODIFIED:20230926T044638Z
UID:10001438-1826375400-1826378100@kidworksoc.org
SUMMARY:Visita KidWorks
DESCRIPTION:Nos encanta recibir visitas. Las visitas suelen durar 45 minutos y se realizan en: \nCentro KidWorks Dan Donahue\n1902 W. Chestnut Ave\nSanta Ana\, CA 92703
URL:https://kidworksoc.org/es/event/visita-kidworks/2027-11-16/
LOCATION:KidWorks Dan Donahue Center\, 1902 W Chestnut Ave\, Santa Ana\, CA\, 92703\, United States
ATTACH;FMTTYPE=image/jpeg:https://kidworksoc.org/wp-content/uploads/2023/09/IMG_6637.jpg
END:VEVENT
BEGIN:VEVENT
DTSTART;TZID=America/Los_Angeles:20271117T160000
DTEND;TZID=America/Los_Angeles:20271117T164500
DTSTAMP:20260424T030849
CREATED:20230926T215952Z
LAST-MODIFIED:20230926T215952Z
UID:10003003-1826467200-1826469900@kidworksoc.org
SUMMARY:Visita KidWorks
DESCRIPTION:Nos encanta recibir visitas. Las visitas suelen durar 45 minutos y se realizan en nuestro Centro Dan Donahue. Haga clic AQUÍ para obtener más información e inscribirse. \nCentro KidWorks Dan Donahue\n1902 W. Chestnut Ave\nSanta Ana\, CA 92703
URL:https://kidworksoc.org/es/event/visita-kidworks-2/2027-11-17/
LOCATION:KidWorks Dan Donahue Center\, 1902 W Chestnut Ave\, Santa Ana\, CA\, 92703\, United States
ATTACH;FMTTYPE=image/jpeg:https://kidworksoc.org/wp-content/uploads/2023/02/CAASeniors-Christmas-e1695703920919.jpg
END:VEVENT
END:VCALENDAR