BEGIN:VCALENDAR
VERSION:2.0
PRODID:-//KidWorks - ECPv6.15.20//NONSGML v1.0//EN
CALSCALE:GREGORIAN
METHOD:PUBLISH
X-ORIGINAL-URL:https://kidworksoc.org/es/
X-WR-CALDESC:Eventos para KidWorks
REFRESH-INTERVAL;VALUE=DURATION:PT1H
X-Robots-Tag:noindex
X-PUBLISHED-TTL:PT1H
BEGIN:VTIMEZONE
TZID:America/Los_Angeles
BEGIN:DAYLIGHT
TZOFFSETFROM:-0800
TZOFFSETTO:-0700
TZNAME:PDT
DTSTART:20260308T100000
END:DAYLIGHT
BEGIN:STANDARD
TZOFFSETFROM:-0700
TZOFFSETTO:-0800
TZNAME:PST
DTSTART:20261101T090000
END:STANDARD
BEGIN:DAYLIGHT
TZOFFSETFROM:-0800
TZOFFSETTO:-0700
TZNAME:PDT
DTSTART:20270314T100000
END:DAYLIGHT
BEGIN:STANDARD
TZOFFSETFROM:-0700
TZOFFSETTO:-0800
TZNAME:PST
DTSTART:20271107T090000
END:STANDARD
BEGIN:DAYLIGHT
TZOFFSETFROM:-0800
TZOFFSETTO:-0700
TZNAME:PDT
DTSTART:20280312T100000
END:DAYLIGHT
BEGIN:STANDARD
TZOFFSETFROM:-0700
TZOFFSETTO:-0800
TZNAME:PST
DTSTART:20281105T090000
END:STANDARD
END:VTIMEZONE
BEGIN:VEVENT
DTSTART;TZID=America/Los_Angeles:20270707T160000
DTEND;TZID=America/Los_Angeles:20270707T164500
DTSTAMP:20260423T231823
CREATED:20230926T215952Z
LAST-MODIFIED:20230926T215952Z
UID:10002984-1814976000-1814978700@kidworksoc.org
SUMMARY:Visita KidWorks
DESCRIPTION:Nos encanta recibir visitas. Las visitas suelen durar 45 minutos y se realizan en nuestro Centro Dan Donahue. Haga clic AQUÍ para obtener más información e inscribirse. \nCentro KidWorks Dan Donahue\n1902 W. Chestnut Ave\nSanta Ana\, CA 92703
URL:https://kidworksoc.org/es/event/visita-kidworks-2/2027-07-07/
LOCATION:KidWorks Dan Donahue Center\, 1902 W Chestnut Ave\, Santa Ana\, CA\, 92703\, United States
ATTACH;FMTTYPE=image/jpeg:https://kidworksoc.org/wp-content/uploads/2023/02/CAASeniors-Christmas-e1695703920919.jpg
END:VEVENT
BEGIN:VEVENT
DTSTART;TZID=America/Los_Angeles:20270709T180000
DTEND;TZID=America/Los_Angeles:20270709T210000
DTSTAMP:20260423T231823
CREATED:20240627T164759Z
LAST-MODIFIED:20240711T184044Z
UID:10003664-1815156000-1815166800@kidworksoc.org
SUMMARY:Noches de la Juventud de Secundaria
DESCRIPTION:
URL:https://kidworksoc.org/es/event/noches-de-la-juventud-de-secundaria-2/2027-07-09/
ATTACH;FMTTYPE=image/jpeg:https://kidworksoc.org/wp-content/uploads/2023/02/IMG_9695.jpg
END:VEVENT
BEGIN:VEVENT
DTSTART;TZID=America/Los_Angeles:20270713T143000
DTEND;TZID=America/Los_Angeles:20270713T151500
DTSTAMP:20260423T231823
CREATED:20230926T044638Z
LAST-MODIFIED:20230926T044638Z
UID:10001420-1815489000-1815491700@kidworksoc.org
SUMMARY:Visita KidWorks
DESCRIPTION:Nos encanta recibir visitas. Las visitas suelen durar 45 minutos y se realizan en: \nCentro KidWorks Dan Donahue\n1902 W. Chestnut Ave\nSanta Ana\, CA 92703
URL:https://kidworksoc.org/es/event/visita-kidworks/2027-07-13/
LOCATION:KidWorks Dan Donahue Center\, 1902 W Chestnut Ave\, Santa Ana\, CA\, 92703\, United States
ATTACH;FMTTYPE=image/jpeg:https://kidworksoc.org/wp-content/uploads/2023/09/IMG_6637.jpg
END:VEVENT
BEGIN:VEVENT
DTSTART;TZID=America/Los_Angeles:20270714T160000
DTEND;TZID=America/Los_Angeles:20270714T164500
DTSTAMP:20260423T231823
CREATED:20230926T215952Z
LAST-MODIFIED:20230926T215952Z
UID:10002985-1815580800-1815583500@kidworksoc.org
SUMMARY:Visita KidWorks
DESCRIPTION:Nos encanta recibir visitas. Las visitas suelen durar 45 minutos y se realizan en nuestro Centro Dan Donahue. Haga clic AQUÍ para obtener más información e inscribirse. \nCentro KidWorks Dan Donahue\n1902 W. Chestnut Ave\nSanta Ana\, CA 92703
URL:https://kidworksoc.org/es/event/visita-kidworks-2/2027-07-14/
LOCATION:KidWorks Dan Donahue Center\, 1902 W Chestnut Ave\, Santa Ana\, CA\, 92703\, United States
ATTACH;FMTTYPE=image/jpeg:https://kidworksoc.org/wp-content/uploads/2023/02/CAASeniors-Christmas-e1695703920919.jpg
END:VEVENT
BEGIN:VEVENT
DTSTART;TZID=America/Los_Angeles:20270716T170000
DTEND;TZID=America/Los_Angeles:20270716T190000
DTSTAMP:20260423T231823
CREATED:20230612T232942Z
LAST-MODIFIED:20230612T232942Z
UID:10003585-1815757200-1815764400@kidworksoc.org
SUMMARY:Noches de Juventud en la Escuela Secundaria
DESCRIPTION:
URL:https://kidworksoc.org/es/event/noches-de-juventud-en-la-escuela-secundaria/2027-07-16/
ATTACH;FMTTYPE=image/jpeg:https://kidworksoc.org/wp-content/uploads/2023/05/dGWu68pA.jpeg
END:VEVENT
BEGIN:VEVENT
DTSTART;TZID=America/Los_Angeles:20270720T143000
DTEND;TZID=America/Los_Angeles:20270720T151500
DTSTAMP:20260423T231823
CREATED:20230926T044638Z
LAST-MODIFIED:20230926T044638Z
UID:10001421-1816093800-1816096500@kidworksoc.org
SUMMARY:Visita KidWorks
DESCRIPTION:Nos encanta recibir visitas. Las visitas suelen durar 45 minutos y se realizan en: \nCentro KidWorks Dan Donahue\n1902 W. Chestnut Ave\nSanta Ana\, CA 92703
URL:https://kidworksoc.org/es/event/visita-kidworks/2027-07-20/
LOCATION:KidWorks Dan Donahue Center\, 1902 W Chestnut Ave\, Santa Ana\, CA\, 92703\, United States
ATTACH;FMTTYPE=image/jpeg:https://kidworksoc.org/wp-content/uploads/2023/09/IMG_6637.jpg
END:VEVENT
BEGIN:VEVENT
DTSTART;TZID=America/Los_Angeles:20270721T160000
DTEND;TZID=America/Los_Angeles:20270721T164500
DTSTAMP:20260423T231823
CREATED:20230926T215952Z
LAST-MODIFIED:20230926T215952Z
UID:10002986-1816185600-1816188300@kidworksoc.org
SUMMARY:Visita KidWorks
DESCRIPTION:Nos encanta recibir visitas. Las visitas suelen durar 45 minutos y se realizan en nuestro Centro Dan Donahue. Haga clic AQUÍ para obtener más información e inscribirse. \nCentro KidWorks Dan Donahue\n1902 W. Chestnut Ave\nSanta Ana\, CA 92703
URL:https://kidworksoc.org/es/event/visita-kidworks-2/2027-07-21/
LOCATION:KidWorks Dan Donahue Center\, 1902 W Chestnut Ave\, Santa Ana\, CA\, 92703\, United States
ATTACH;FMTTYPE=image/jpeg:https://kidworksoc.org/wp-content/uploads/2023/02/CAASeniors-Christmas-e1695703920919.jpg
END:VEVENT
BEGIN:VEVENT
DTSTART;TZID=America/Los_Angeles:20270727T143000
DTEND;TZID=America/Los_Angeles:20270727T151500
DTSTAMP:20260423T231823
CREATED:20230926T044638Z
LAST-MODIFIED:20230926T044638Z
UID:10001422-1816698600-1816701300@kidworksoc.org
SUMMARY:Visita KidWorks
DESCRIPTION:Nos encanta recibir visitas. Las visitas suelen durar 45 minutos y se realizan en: \nCentro KidWorks Dan Donahue\n1902 W. Chestnut Ave\nSanta Ana\, CA 92703
URL:https://kidworksoc.org/es/event/visita-kidworks/2027-07-27/
LOCATION:KidWorks Dan Donahue Center\, 1902 W Chestnut Ave\, Santa Ana\, CA\, 92703\, United States
ATTACH;FMTTYPE=image/jpeg:https://kidworksoc.org/wp-content/uploads/2023/09/IMG_6637.jpg
END:VEVENT
BEGIN:VEVENT
DTSTART;TZID=America/Los_Angeles:20270728T160000
DTEND;TZID=America/Los_Angeles:20270728T164500
DTSTAMP:20260423T231823
CREATED:20230926T215952Z
LAST-MODIFIED:20230926T215952Z
UID:10002987-1816790400-1816793100@kidworksoc.org
SUMMARY:Visita KidWorks
DESCRIPTION:Nos encanta recibir visitas. Las visitas suelen durar 45 minutos y se realizan en nuestro Centro Dan Donahue. Haga clic AQUÍ para obtener más información e inscribirse. \nCentro KidWorks Dan Donahue\n1902 W. Chestnut Ave\nSanta Ana\, CA 92703
URL:https://kidworksoc.org/es/event/visita-kidworks-2/2027-07-28/
LOCATION:KidWorks Dan Donahue Center\, 1902 W Chestnut Ave\, Santa Ana\, CA\, 92703\, United States
ATTACH;FMTTYPE=image/jpeg:https://kidworksoc.org/wp-content/uploads/2023/02/CAASeniors-Christmas-e1695703920919.jpg
END:VEVENT
BEGIN:VEVENT
DTSTART;TZID=America/Los_Angeles:20270803T143000
DTEND;TZID=America/Los_Angeles:20270803T151500
DTSTAMP:20260423T231823
CREATED:20230926T044638Z
LAST-MODIFIED:20230926T044638Z
UID:10001423-1817303400-1817306100@kidworksoc.org
SUMMARY:Visita KidWorks
DESCRIPTION:Nos encanta recibir visitas. Las visitas suelen durar 45 minutos y se realizan en: \nCentro KidWorks Dan Donahue\n1902 W. Chestnut Ave\nSanta Ana\, CA 92703
URL:https://kidworksoc.org/es/event/visita-kidworks/2027-08-03/
LOCATION:KidWorks Dan Donahue Center\, 1902 W Chestnut Ave\, Santa Ana\, CA\, 92703\, United States
ATTACH;FMTTYPE=image/jpeg:https://kidworksoc.org/wp-content/uploads/2023/09/IMG_6637.jpg
END:VEVENT
BEGIN:VEVENT
DTSTART;TZID=America/Los_Angeles:20270804T160000
DTEND;TZID=America/Los_Angeles:20270804T164500
DTSTAMP:20260423T231823
CREATED:20230926T215952Z
LAST-MODIFIED:20230926T215952Z
UID:10002988-1817395200-1817397900@kidworksoc.org
SUMMARY:Visita KidWorks
DESCRIPTION:Nos encanta recibir visitas. Las visitas suelen durar 45 minutos y se realizan en nuestro Centro Dan Donahue. Haga clic AQUÍ para obtener más información e inscribirse. \nCentro KidWorks Dan Donahue\n1902 W. Chestnut Ave\nSanta Ana\, CA 92703
URL:https://kidworksoc.org/es/event/visita-kidworks-2/2027-08-04/
LOCATION:KidWorks Dan Donahue Center\, 1902 W Chestnut Ave\, Santa Ana\, CA\, 92703\, United States
ATTACH;FMTTYPE=image/jpeg:https://kidworksoc.org/wp-content/uploads/2023/02/CAASeniors-Christmas-e1695703920919.jpg
END:VEVENT
BEGIN:VEVENT
DTSTART;TZID=America/Los_Angeles:20270810T143000
DTEND;TZID=America/Los_Angeles:20270810T151500
DTSTAMP:20260423T231823
CREATED:20230926T044638Z
LAST-MODIFIED:20230926T044638Z
UID:10001424-1817908200-1817910900@kidworksoc.org
SUMMARY:Visita KidWorks
DESCRIPTION:Nos encanta recibir visitas. Las visitas suelen durar 45 minutos y se realizan en: \nCentro KidWorks Dan Donahue\n1902 W. Chestnut Ave\nSanta Ana\, CA 92703
URL:https://kidworksoc.org/es/event/visita-kidworks/2027-08-10/
LOCATION:KidWorks Dan Donahue Center\, 1902 W Chestnut Ave\, Santa Ana\, CA\, 92703\, United States
ATTACH;FMTTYPE=image/jpeg:https://kidworksoc.org/wp-content/uploads/2023/09/IMG_6637.jpg
END:VEVENT
BEGIN:VEVENT
DTSTART;TZID=America/Los_Angeles:20270811T160000
DTEND;TZID=America/Los_Angeles:20270811T164500
DTSTAMP:20260423T231823
CREATED:20230926T215952Z
LAST-MODIFIED:20230926T215952Z
UID:10002989-1818000000-1818002700@kidworksoc.org
SUMMARY:Visita KidWorks
DESCRIPTION:Nos encanta recibir visitas. Las visitas suelen durar 45 minutos y se realizan en nuestro Centro Dan Donahue. Haga clic AQUÍ para obtener más información e inscribirse. \nCentro KidWorks Dan Donahue\n1902 W. Chestnut Ave\nSanta Ana\, CA 92703
URL:https://kidworksoc.org/es/event/visita-kidworks-2/2027-08-11/
LOCATION:KidWorks Dan Donahue Center\, 1902 W Chestnut Ave\, Santa Ana\, CA\, 92703\, United States
ATTACH;FMTTYPE=image/jpeg:https://kidworksoc.org/wp-content/uploads/2023/02/CAASeniors-Christmas-e1695703920919.jpg
END:VEVENT
BEGIN:VEVENT
DTSTART;TZID=America/Los_Angeles:20270813T180000
DTEND;TZID=America/Los_Angeles:20270813T210000
DTSTAMP:20260423T231823
CREATED:20240627T164759Z
LAST-MODIFIED:20240711T184044Z
UID:10003665-1818180000-1818190800@kidworksoc.org
SUMMARY:Noches de la Juventud de Secundaria
DESCRIPTION:
URL:https://kidworksoc.org/es/event/noches-de-la-juventud-de-secundaria-2/2027-08-13/
ATTACH;FMTTYPE=image/jpeg:https://kidworksoc.org/wp-content/uploads/2023/02/IMG_9695.jpg
END:VEVENT
BEGIN:VEVENT
DTSTART;TZID=America/Los_Angeles:20270817T143000
DTEND;TZID=America/Los_Angeles:20270817T151500
DTSTAMP:20260423T231823
CREATED:20230926T044638Z
LAST-MODIFIED:20230926T044638Z
UID:10001425-1818513000-1818515700@kidworksoc.org
SUMMARY:Visita KidWorks
DESCRIPTION:Nos encanta recibir visitas. Las visitas suelen durar 45 minutos y se realizan en: \nCentro KidWorks Dan Donahue\n1902 W. Chestnut Ave\nSanta Ana\, CA 92703
URL:https://kidworksoc.org/es/event/visita-kidworks/2027-08-17/
LOCATION:KidWorks Dan Donahue Center\, 1902 W Chestnut Ave\, Santa Ana\, CA\, 92703\, United States
ATTACH;FMTTYPE=image/jpeg:https://kidworksoc.org/wp-content/uploads/2023/09/IMG_6637.jpg
END:VEVENT
BEGIN:VEVENT
DTSTART;TZID=America/Los_Angeles:20270818T160000
DTEND;TZID=America/Los_Angeles:20270818T164500
DTSTAMP:20260423T231823
CREATED:20230926T215952Z
LAST-MODIFIED:20230926T215952Z
UID:10002990-1818604800-1818607500@kidworksoc.org
SUMMARY:Visita KidWorks
DESCRIPTION:Nos encanta recibir visitas. Las visitas suelen durar 45 minutos y se realizan en nuestro Centro Dan Donahue. Haga clic AQUÍ para obtener más información e inscribirse. \nCentro KidWorks Dan Donahue\n1902 W. Chestnut Ave\nSanta Ana\, CA 92703
URL:https://kidworksoc.org/es/event/visita-kidworks-2/2027-08-18/
LOCATION:KidWorks Dan Donahue Center\, 1902 W Chestnut Ave\, Santa Ana\, CA\, 92703\, United States
ATTACH;FMTTYPE=image/jpeg:https://kidworksoc.org/wp-content/uploads/2023/02/CAASeniors-Christmas-e1695703920919.jpg
END:VEVENT
BEGIN:VEVENT
DTSTART;TZID=America/Los_Angeles:20270820T170000
DTEND;TZID=America/Los_Angeles:20270820T190000
DTSTAMP:20260423T231823
CREATED:20230612T232942Z
LAST-MODIFIED:20230612T232942Z
UID:10003586-1818781200-1818788400@kidworksoc.org
SUMMARY:Noches de Juventud en la Escuela Secundaria
DESCRIPTION:
URL:https://kidworksoc.org/es/event/noches-de-juventud-en-la-escuela-secundaria/2027-08-20/
ATTACH;FMTTYPE=image/jpeg:https://kidworksoc.org/wp-content/uploads/2023/05/dGWu68pA.jpeg
END:VEVENT
BEGIN:VEVENT
DTSTART;TZID=America/Los_Angeles:20270824T143000
DTEND;TZID=America/Los_Angeles:20270824T151500
DTSTAMP:20260423T231823
CREATED:20230926T044638Z
LAST-MODIFIED:20230926T044638Z
UID:10001426-1819117800-1819120500@kidworksoc.org
SUMMARY:Visita KidWorks
DESCRIPTION:Nos encanta recibir visitas. Las visitas suelen durar 45 minutos y se realizan en: \nCentro KidWorks Dan Donahue\n1902 W. Chestnut Ave\nSanta Ana\, CA 92703
URL:https://kidworksoc.org/es/event/visita-kidworks/2027-08-24/
LOCATION:KidWorks Dan Donahue Center\, 1902 W Chestnut Ave\, Santa Ana\, CA\, 92703\, United States
ATTACH;FMTTYPE=image/jpeg:https://kidworksoc.org/wp-content/uploads/2023/09/IMG_6637.jpg
END:VEVENT
BEGIN:VEVENT
DTSTART;TZID=America/Los_Angeles:20270825T160000
DTEND;TZID=America/Los_Angeles:20270825T164500
DTSTAMP:20260423T231823
CREATED:20230926T215952Z
LAST-MODIFIED:20230926T215952Z
UID:10002991-1819209600-1819212300@kidworksoc.org
SUMMARY:Visita KidWorks
DESCRIPTION:Nos encanta recibir visitas. Las visitas suelen durar 45 minutos y se realizan en nuestro Centro Dan Donahue. Haga clic AQUÍ para obtener más información e inscribirse. \nCentro KidWorks Dan Donahue\n1902 W. Chestnut Ave\nSanta Ana\, CA 92703
URL:https://kidworksoc.org/es/event/visita-kidworks-2/2027-08-25/
LOCATION:KidWorks Dan Donahue Center\, 1902 W Chestnut Ave\, Santa Ana\, CA\, 92703\, United States
ATTACH;FMTTYPE=image/jpeg:https://kidworksoc.org/wp-content/uploads/2023/02/CAASeniors-Christmas-e1695703920919.jpg
END:VEVENT
BEGIN:VEVENT
DTSTART;TZID=America/Los_Angeles:20270831T143000
DTEND;TZID=America/Los_Angeles:20270831T151500
DTSTAMP:20260423T231823
CREATED:20230926T044638Z
LAST-MODIFIED:20230926T044638Z
UID:10001427-1819722600-1819725300@kidworksoc.org
SUMMARY:Visita KidWorks
DESCRIPTION:Nos encanta recibir visitas. Las visitas suelen durar 45 minutos y se realizan en: \nCentro KidWorks Dan Donahue\n1902 W. Chestnut Ave\nSanta Ana\, CA 92703
URL:https://kidworksoc.org/es/event/visita-kidworks/2027-08-31/
LOCATION:KidWorks Dan Donahue Center\, 1902 W Chestnut Ave\, Santa Ana\, CA\, 92703\, United States
ATTACH;FMTTYPE=image/jpeg:https://kidworksoc.org/wp-content/uploads/2023/09/IMG_6637.jpg
END:VEVENT
BEGIN:VEVENT
DTSTART;TZID=America/Los_Angeles:20270901T160000
DTEND;TZID=America/Los_Angeles:20270901T164500
DTSTAMP:20260423T231823
CREATED:20230926T215952Z
LAST-MODIFIED:20230926T215952Z
UID:10002992-1819814400-1819817100@kidworksoc.org
SUMMARY:Visita KidWorks
DESCRIPTION:Nos encanta recibir visitas. Las visitas suelen durar 45 minutos y se realizan en nuestro Centro Dan Donahue. Haga clic AQUÍ para obtener más información e inscribirse. \nCentro KidWorks Dan Donahue\n1902 W. Chestnut Ave\nSanta Ana\, CA 92703
URL:https://kidworksoc.org/es/event/visita-kidworks-2/2027-09-01/
LOCATION:KidWorks Dan Donahue Center\, 1902 W Chestnut Ave\, Santa Ana\, CA\, 92703\, United States
ATTACH;FMTTYPE=image/jpeg:https://kidworksoc.org/wp-content/uploads/2023/02/CAASeniors-Christmas-e1695703920919.jpg
END:VEVENT
BEGIN:VEVENT
DTSTART;TZID=America/Los_Angeles:20270907T143000
DTEND;TZID=America/Los_Angeles:20270907T151500
DTSTAMP:20260423T231823
CREATED:20230926T044638Z
LAST-MODIFIED:20230926T044638Z
UID:10001428-1820327400-1820330100@kidworksoc.org
SUMMARY:Visita KidWorks
DESCRIPTION:Nos encanta recibir visitas. Las visitas suelen durar 45 minutos y se realizan en: \nCentro KidWorks Dan Donahue\n1902 W. Chestnut Ave\nSanta Ana\, CA 92703
URL:https://kidworksoc.org/es/event/visita-kidworks/2027-09-07/
LOCATION:KidWorks Dan Donahue Center\, 1902 W Chestnut Ave\, Santa Ana\, CA\, 92703\, United States
ATTACH;FMTTYPE=image/jpeg:https://kidworksoc.org/wp-content/uploads/2023/09/IMG_6637.jpg
END:VEVENT
BEGIN:VEVENT
DTSTART;TZID=America/Los_Angeles:20270908T160000
DTEND;TZID=America/Los_Angeles:20270908T164500
DTSTAMP:20260423T231823
CREATED:20230926T215952Z
LAST-MODIFIED:20230926T215952Z
UID:10002993-1820419200-1820421900@kidworksoc.org
SUMMARY:Visita KidWorks
DESCRIPTION:Nos encanta recibir visitas. Las visitas suelen durar 45 minutos y se realizan en nuestro Centro Dan Donahue. Haga clic AQUÍ para obtener más información e inscribirse. \nCentro KidWorks Dan Donahue\n1902 W. Chestnut Ave\nSanta Ana\, CA 92703
URL:https://kidworksoc.org/es/event/visita-kidworks-2/2027-09-08/
LOCATION:KidWorks Dan Donahue Center\, 1902 W Chestnut Ave\, Santa Ana\, CA\, 92703\, United States
ATTACH;FMTTYPE=image/jpeg:https://kidworksoc.org/wp-content/uploads/2023/02/CAASeniors-Christmas-e1695703920919.jpg
END:VEVENT
BEGIN:VEVENT
DTSTART;TZID=America/Los_Angeles:20270910T180000
DTEND;TZID=America/Los_Angeles:20270910T210000
DTSTAMP:20260423T231823
CREATED:20240627T164759Z
LAST-MODIFIED:20240711T184044Z
UID:10003666-1820599200-1820610000@kidworksoc.org
SUMMARY:Noches de la Juventud de Secundaria
DESCRIPTION:
URL:https://kidworksoc.org/es/event/noches-de-la-juventud-de-secundaria-2/2027-09-10/
ATTACH;FMTTYPE=image/jpeg:https://kidworksoc.org/wp-content/uploads/2023/02/IMG_9695.jpg
END:VEVENT
BEGIN:VEVENT
DTSTART;TZID=America/Los_Angeles:20270914T143000
DTEND;TZID=America/Los_Angeles:20270914T151500
DTSTAMP:20260423T231823
CREATED:20230926T044638Z
LAST-MODIFIED:20230926T044638Z
UID:10001429-1820932200-1820934900@kidworksoc.org
SUMMARY:Visita KidWorks
DESCRIPTION:Nos encanta recibir visitas. Las visitas suelen durar 45 minutos y se realizan en: \nCentro KidWorks Dan Donahue\n1902 W. Chestnut Ave\nSanta Ana\, CA 92703
URL:https://kidworksoc.org/es/event/visita-kidworks/2027-09-14/
LOCATION:KidWorks Dan Donahue Center\, 1902 W Chestnut Ave\, Santa Ana\, CA\, 92703\, United States
ATTACH;FMTTYPE=image/jpeg:https://kidworksoc.org/wp-content/uploads/2023/09/IMG_6637.jpg
END:VEVENT
BEGIN:VEVENT
DTSTART;TZID=America/Los_Angeles:20270915T160000
DTEND;TZID=America/Los_Angeles:20270915T164500
DTSTAMP:20260423T231823
CREATED:20230926T215952Z
LAST-MODIFIED:20230926T215952Z
UID:10002994-1821024000-1821026700@kidworksoc.org
SUMMARY:Visita KidWorks
DESCRIPTION:Nos encanta recibir visitas. Las visitas suelen durar 45 minutos y se realizan en nuestro Centro Dan Donahue. Haga clic AQUÍ para obtener más información e inscribirse. \nCentro KidWorks Dan Donahue\n1902 W. Chestnut Ave\nSanta Ana\, CA 92703
URL:https://kidworksoc.org/es/event/visita-kidworks-2/2027-09-15/
LOCATION:KidWorks Dan Donahue Center\, 1902 W Chestnut Ave\, Santa Ana\, CA\, 92703\, United States
ATTACH;FMTTYPE=image/jpeg:https://kidworksoc.org/wp-content/uploads/2023/02/CAASeniors-Christmas-e1695703920919.jpg
END:VEVENT
BEGIN:VEVENT
DTSTART;TZID=America/Los_Angeles:20270917T170000
DTEND;TZID=America/Los_Angeles:20270917T190000
DTSTAMP:20260423T231823
CREATED:20230612T232942Z
LAST-MODIFIED:20230612T232942Z
UID:10003587-1821200400-1821207600@kidworksoc.org
SUMMARY:Noches de Juventud en la Escuela Secundaria
DESCRIPTION:
URL:https://kidworksoc.org/es/event/noches-de-juventud-en-la-escuela-secundaria/2027-09-17/
ATTACH;FMTTYPE=image/jpeg:https://kidworksoc.org/wp-content/uploads/2023/05/dGWu68pA.jpeg
END:VEVENT
BEGIN:VEVENT
DTSTART;TZID=America/Los_Angeles:20270921T143000
DTEND;TZID=America/Los_Angeles:20270921T151500
DTSTAMP:20260423T231823
CREATED:20230926T044638Z
LAST-MODIFIED:20230926T044638Z
UID:10001430-1821537000-1821539700@kidworksoc.org
SUMMARY:Visita KidWorks
DESCRIPTION:Nos encanta recibir visitas. Las visitas suelen durar 45 minutos y se realizan en: \nCentro KidWorks Dan Donahue\n1902 W. Chestnut Ave\nSanta Ana\, CA 92703
URL:https://kidworksoc.org/es/event/visita-kidworks/2027-09-21/
LOCATION:KidWorks Dan Donahue Center\, 1902 W Chestnut Ave\, Santa Ana\, CA\, 92703\, United States
ATTACH;FMTTYPE=image/jpeg:https://kidworksoc.org/wp-content/uploads/2023/09/IMG_6637.jpg
END:VEVENT
BEGIN:VEVENT
DTSTART;TZID=America/Los_Angeles:20270922T160000
DTEND;TZID=America/Los_Angeles:20270922T164500
DTSTAMP:20260423T231823
CREATED:20230926T215952Z
LAST-MODIFIED:20230926T215952Z
UID:10002995-1821628800-1821631500@kidworksoc.org
SUMMARY:Visita KidWorks
DESCRIPTION:Nos encanta recibir visitas. Las visitas suelen durar 45 minutos y se realizan en nuestro Centro Dan Donahue. Haga clic AQUÍ para obtener más información e inscribirse. \nCentro KidWorks Dan Donahue\n1902 W. Chestnut Ave\nSanta Ana\, CA 92703
URL:https://kidworksoc.org/es/event/visita-kidworks-2/2027-09-22/
LOCATION:KidWorks Dan Donahue Center\, 1902 W Chestnut Ave\, Santa Ana\, CA\, 92703\, United States
ATTACH;FMTTYPE=image/jpeg:https://kidworksoc.org/wp-content/uploads/2023/02/CAASeniors-Christmas-e1695703920919.jpg
END:VEVENT
BEGIN:VEVENT
DTSTART;TZID=America/Los_Angeles:20270928T143000
DTEND;TZID=America/Los_Angeles:20270928T151500
DTSTAMP:20260423T231823
CREATED:20230926T044638Z
LAST-MODIFIED:20230926T044638Z
UID:10001431-1822141800-1822144500@kidworksoc.org
SUMMARY:Visita KidWorks
DESCRIPTION:Nos encanta recibir visitas. Las visitas suelen durar 45 minutos y se realizan en: \nCentro KidWorks Dan Donahue\n1902 W. Chestnut Ave\nSanta Ana\, CA 92703
URL:https://kidworksoc.org/es/event/visita-kidworks/2027-09-28/
LOCATION:KidWorks Dan Donahue Center\, 1902 W Chestnut Ave\, Santa Ana\, CA\, 92703\, United States
ATTACH;FMTTYPE=image/jpeg:https://kidworksoc.org/wp-content/uploads/2023/09/IMG_6637.jpg
END:VEVENT
END:VCALENDAR