BEGIN:VCALENDAR
VERSION:2.0
PRODID:-//KidWorks - ECPv6.15.20//NONSGML v1.0//EN
CALSCALE:GREGORIAN
METHOD:PUBLISH
X-ORIGINAL-URL:https://kidworksoc.org/es/
X-WR-CALDESC:Eventos para KidWorks
REFRESH-INTERVAL;VALUE=DURATION:PT1H
X-Robots-Tag:noindex
X-PUBLISHED-TTL:PT1H
BEGIN:VTIMEZONE
TZID:America/Los_Angeles
BEGIN:DAYLIGHT
TZOFFSETFROM:-0800
TZOFFSETTO:-0700
TZNAME:PDT
DTSTART:20260308T100000
END:DAYLIGHT
BEGIN:STANDARD
TZOFFSETFROM:-0700
TZOFFSETTO:-0800
TZNAME:PST
DTSTART:20261101T090000
END:STANDARD
BEGIN:DAYLIGHT
TZOFFSETFROM:-0800
TZOFFSETTO:-0700
TZNAME:PDT
DTSTART:20270314T100000
END:DAYLIGHT
BEGIN:STANDARD
TZOFFSETFROM:-0700
TZOFFSETTO:-0800
TZNAME:PST
DTSTART:20271107T090000
END:STANDARD
BEGIN:DAYLIGHT
TZOFFSETFROM:-0800
TZOFFSETTO:-0700
TZNAME:PDT
DTSTART:20280312T100000
END:DAYLIGHT
BEGIN:STANDARD
TZOFFSETFROM:-0700
TZOFFSETTO:-0800
TZNAME:PST
DTSTART:20281105T090000
END:STANDARD
END:VTIMEZONE
BEGIN:VEVENT
DTSTART;TZID=America/Los_Angeles:20270324T160000
DTEND;TZID=America/Los_Angeles:20270324T164500
DTSTAMP:20260423T183818
CREATED:20230926T215952Z
LAST-MODIFIED:20230926T215952Z
UID:10002969-1805904000-1805906700@kidworksoc.org
SUMMARY:Visita KidWorks
DESCRIPTION:Nos encanta recibir visitas. Las visitas suelen durar 45 minutos y se realizan en nuestro Centro Dan Donahue. Haga clic AQUÍ para obtener más información e inscribirse. \nCentro KidWorks Dan Donahue\n1902 W. Chestnut Ave\nSanta Ana\, CA 92703
URL:https://kidworksoc.org/es/event/visita-kidworks-2/2027-03-24/
LOCATION:KidWorks Dan Donahue Center\, 1902 W Chestnut Ave\, Santa Ana\, CA\, 92703\, United States
ATTACH;FMTTYPE=image/jpeg:https://kidworksoc.org/wp-content/uploads/2023/02/CAASeniors-Christmas-e1695703920919.jpg
END:VEVENT
BEGIN:VEVENT
DTSTART;TZID=America/Los_Angeles:20270330T143000
DTEND;TZID=America/Los_Angeles:20270330T151500
DTSTAMP:20260423T183818
CREATED:20230926T044638Z
LAST-MODIFIED:20230926T044638Z
UID:10001405-1806417000-1806419700@kidworksoc.org
SUMMARY:Visita KidWorks
DESCRIPTION:Nos encanta recibir visitas. Las visitas suelen durar 45 minutos y se realizan en: \nCentro KidWorks Dan Donahue\n1902 W. Chestnut Ave\nSanta Ana\, CA 92703
URL:https://kidworksoc.org/es/event/visita-kidworks/2027-03-30/
LOCATION:KidWorks Dan Donahue Center\, 1902 W Chestnut Ave\, Santa Ana\, CA\, 92703\, United States
ATTACH;FMTTYPE=image/jpeg:https://kidworksoc.org/wp-content/uploads/2023/09/IMG_6637.jpg
END:VEVENT
BEGIN:VEVENT
DTSTART;TZID=America/Los_Angeles:20270331T160000
DTEND;TZID=America/Los_Angeles:20270331T164500
DTSTAMP:20260423T183818
CREATED:20230926T215952Z
LAST-MODIFIED:20230926T215952Z
UID:10002970-1806508800-1806511500@kidworksoc.org
SUMMARY:Visita KidWorks
DESCRIPTION:Nos encanta recibir visitas. Las visitas suelen durar 45 minutos y se realizan en nuestro Centro Dan Donahue. Haga clic AQUÍ para obtener más información e inscribirse. \nCentro KidWorks Dan Donahue\n1902 W. Chestnut Ave\nSanta Ana\, CA 92703
URL:https://kidworksoc.org/es/event/visita-kidworks-2/2027-03-31/
LOCATION:KidWorks Dan Donahue Center\, 1902 W Chestnut Ave\, Santa Ana\, CA\, 92703\, United States
ATTACH;FMTTYPE=image/jpeg:https://kidworksoc.org/wp-content/uploads/2023/02/CAASeniors-Christmas-e1695703920919.jpg
END:VEVENT
BEGIN:VEVENT
DTSTART;TZID=America/Los_Angeles:20270406T143000
DTEND;TZID=America/Los_Angeles:20270406T151500
DTSTAMP:20260423T183818
CREATED:20230926T044638Z
LAST-MODIFIED:20230926T044638Z
UID:10001406-1807021800-1807024500@kidworksoc.org
SUMMARY:Visita KidWorks
DESCRIPTION:Nos encanta recibir visitas. Las visitas suelen durar 45 minutos y se realizan en: \nCentro KidWorks Dan Donahue\n1902 W. Chestnut Ave\nSanta Ana\, CA 92703
URL:https://kidworksoc.org/es/event/visita-kidworks/2027-04-06/
LOCATION:KidWorks Dan Donahue Center\, 1902 W Chestnut Ave\, Santa Ana\, CA\, 92703\, United States
ATTACH;FMTTYPE=image/jpeg:https://kidworksoc.org/wp-content/uploads/2023/09/IMG_6637.jpg
END:VEVENT
BEGIN:VEVENT
DTSTART;TZID=America/Los_Angeles:20270407T160000
DTEND;TZID=America/Los_Angeles:20270407T164500
DTSTAMP:20260423T183818
CREATED:20230926T215952Z
LAST-MODIFIED:20230926T215952Z
UID:10002971-1807113600-1807116300@kidworksoc.org
SUMMARY:Visita KidWorks
DESCRIPTION:Nos encanta recibir visitas. Las visitas suelen durar 45 minutos y se realizan en nuestro Centro Dan Donahue. Haga clic AQUÍ para obtener más información e inscribirse. \nCentro KidWorks Dan Donahue\n1902 W. Chestnut Ave\nSanta Ana\, CA 92703
URL:https://kidworksoc.org/es/event/visita-kidworks-2/2027-04-07/
LOCATION:KidWorks Dan Donahue Center\, 1902 W Chestnut Ave\, Santa Ana\, CA\, 92703\, United States
ATTACH;FMTTYPE=image/jpeg:https://kidworksoc.org/wp-content/uploads/2023/02/CAASeniors-Christmas-e1695703920919.jpg
END:VEVENT
BEGIN:VEVENT
DTSTART;TZID=America/Los_Angeles:20270409T180000
DTEND;TZID=America/Los_Angeles:20270409T210000
DTSTAMP:20260423T183818
CREATED:20240627T164759Z
LAST-MODIFIED:20240711T184044Z
UID:10003661-1807293600-1807304400@kidworksoc.org
SUMMARY:Noches de la Juventud de Secundaria
DESCRIPTION:
URL:https://kidworksoc.org/es/event/noches-de-la-juventud-de-secundaria-2/2027-04-09/
ATTACH;FMTTYPE=image/jpeg:https://kidworksoc.org/wp-content/uploads/2023/02/IMG_9695.jpg
END:VEVENT
BEGIN:VEVENT
DTSTART;TZID=America/Los_Angeles:20270413T143000
DTEND;TZID=America/Los_Angeles:20270413T151500
DTSTAMP:20260423T183818
CREATED:20230926T044638Z
LAST-MODIFIED:20230926T044638Z
UID:10001407-1807626600-1807629300@kidworksoc.org
SUMMARY:Visita KidWorks
DESCRIPTION:Nos encanta recibir visitas. Las visitas suelen durar 45 minutos y se realizan en: \nCentro KidWorks Dan Donahue\n1902 W. Chestnut Ave\nSanta Ana\, CA 92703
URL:https://kidworksoc.org/es/event/visita-kidworks/2027-04-13/
LOCATION:KidWorks Dan Donahue Center\, 1902 W Chestnut Ave\, Santa Ana\, CA\, 92703\, United States
ATTACH;FMTTYPE=image/jpeg:https://kidworksoc.org/wp-content/uploads/2023/09/IMG_6637.jpg
END:VEVENT
BEGIN:VEVENT
DTSTART;TZID=America/Los_Angeles:20270414T160000
DTEND;TZID=America/Los_Angeles:20270414T164500
DTSTAMP:20260423T183818
CREATED:20230926T215952Z
LAST-MODIFIED:20230926T215952Z
UID:10002972-1807718400-1807721100@kidworksoc.org
SUMMARY:Visita KidWorks
DESCRIPTION:Nos encanta recibir visitas. Las visitas suelen durar 45 minutos y se realizan en nuestro Centro Dan Donahue. Haga clic AQUÍ para obtener más información e inscribirse. \nCentro KidWorks Dan Donahue\n1902 W. Chestnut Ave\nSanta Ana\, CA 92703
URL:https://kidworksoc.org/es/event/visita-kidworks-2/2027-04-14/
LOCATION:KidWorks Dan Donahue Center\, 1902 W Chestnut Ave\, Santa Ana\, CA\, 92703\, United States
ATTACH;FMTTYPE=image/jpeg:https://kidworksoc.org/wp-content/uploads/2023/02/CAASeniors-Christmas-e1695703920919.jpg
END:VEVENT
BEGIN:VEVENT
DTSTART;TZID=America/Los_Angeles:20270416T170000
DTEND;TZID=America/Los_Angeles:20270416T190000
DTSTAMP:20260423T183818
CREATED:20230612T232942Z
LAST-MODIFIED:20230612T232942Z
UID:10003582-1807894800-1807902000@kidworksoc.org
SUMMARY:Noches de Juventud en la Escuela Secundaria
DESCRIPTION:
URL:https://kidworksoc.org/es/event/noches-de-juventud-en-la-escuela-secundaria/2027-04-16/
ATTACH;FMTTYPE=image/jpeg:https://kidworksoc.org/wp-content/uploads/2023/05/dGWu68pA.jpeg
END:VEVENT
BEGIN:VEVENT
DTSTART;TZID=America/Los_Angeles:20270420T143000
DTEND;TZID=America/Los_Angeles:20270420T151500
DTSTAMP:20260423T183818
CREATED:20230926T044638Z
LAST-MODIFIED:20230926T044638Z
UID:10001408-1808231400-1808234100@kidworksoc.org
SUMMARY:Visita KidWorks
DESCRIPTION:Nos encanta recibir visitas. Las visitas suelen durar 45 minutos y se realizan en: \nCentro KidWorks Dan Donahue\n1902 W. Chestnut Ave\nSanta Ana\, CA 92703
URL:https://kidworksoc.org/es/event/visita-kidworks/2027-04-20/
LOCATION:KidWorks Dan Donahue Center\, 1902 W Chestnut Ave\, Santa Ana\, CA\, 92703\, United States
ATTACH;FMTTYPE=image/jpeg:https://kidworksoc.org/wp-content/uploads/2023/09/IMG_6637.jpg
END:VEVENT
BEGIN:VEVENT
DTSTART;TZID=America/Los_Angeles:20270421T160000
DTEND;TZID=America/Los_Angeles:20270421T164500
DTSTAMP:20260423T183818
CREATED:20230926T215952Z
LAST-MODIFIED:20230926T215952Z
UID:10002973-1808323200-1808325900@kidworksoc.org
SUMMARY:Visita KidWorks
DESCRIPTION:Nos encanta recibir visitas. Las visitas suelen durar 45 minutos y se realizan en nuestro Centro Dan Donahue. Haga clic AQUÍ para obtener más información e inscribirse. \nCentro KidWorks Dan Donahue\n1902 W. Chestnut Ave\nSanta Ana\, CA 92703
URL:https://kidworksoc.org/es/event/visita-kidworks-2/2027-04-21/
LOCATION:KidWorks Dan Donahue Center\, 1902 W Chestnut Ave\, Santa Ana\, CA\, 92703\, United States
ATTACH;FMTTYPE=image/jpeg:https://kidworksoc.org/wp-content/uploads/2023/02/CAASeniors-Christmas-e1695703920919.jpg
END:VEVENT
BEGIN:VEVENT
DTSTART;TZID=America/Los_Angeles:20270427T143000
DTEND;TZID=America/Los_Angeles:20270427T151500
DTSTAMP:20260423T183818
CREATED:20230926T044638Z
LAST-MODIFIED:20230926T044638Z
UID:10001409-1808836200-1808838900@kidworksoc.org
SUMMARY:Visita KidWorks
DESCRIPTION:Nos encanta recibir visitas. Las visitas suelen durar 45 minutos y se realizan en: \nCentro KidWorks Dan Donahue\n1902 W. Chestnut Ave\nSanta Ana\, CA 92703
URL:https://kidworksoc.org/es/event/visita-kidworks/2027-04-27/
LOCATION:KidWorks Dan Donahue Center\, 1902 W Chestnut Ave\, Santa Ana\, CA\, 92703\, United States
ATTACH;FMTTYPE=image/jpeg:https://kidworksoc.org/wp-content/uploads/2023/09/IMG_6637.jpg
END:VEVENT
BEGIN:VEVENT
DTSTART;TZID=America/Los_Angeles:20270428T160000
DTEND;TZID=America/Los_Angeles:20270428T164500
DTSTAMP:20260423T183818
CREATED:20230926T215952Z
LAST-MODIFIED:20230926T215952Z
UID:10002974-1808928000-1808930700@kidworksoc.org
SUMMARY:Visita KidWorks
DESCRIPTION:Nos encanta recibir visitas. Las visitas suelen durar 45 minutos y se realizan en nuestro Centro Dan Donahue. Haga clic AQUÍ para obtener más información e inscribirse. \nCentro KidWorks Dan Donahue\n1902 W. Chestnut Ave\nSanta Ana\, CA 92703
URL:https://kidworksoc.org/es/event/visita-kidworks-2/2027-04-28/
LOCATION:KidWorks Dan Donahue Center\, 1902 W Chestnut Ave\, Santa Ana\, CA\, 92703\, United States
ATTACH;FMTTYPE=image/jpeg:https://kidworksoc.org/wp-content/uploads/2023/02/CAASeniors-Christmas-e1695703920919.jpg
END:VEVENT
BEGIN:VEVENT
DTSTART;TZID=America/Los_Angeles:20270504T143000
DTEND;TZID=America/Los_Angeles:20270504T151500
DTSTAMP:20260423T183818
CREATED:20230926T044638Z
LAST-MODIFIED:20230926T044638Z
UID:10001410-1809441000-1809443700@kidworksoc.org
SUMMARY:Visita KidWorks
DESCRIPTION:Nos encanta recibir visitas. Las visitas suelen durar 45 minutos y se realizan en: \nCentro KidWorks Dan Donahue\n1902 W. Chestnut Ave\nSanta Ana\, CA 92703
URL:https://kidworksoc.org/es/event/visita-kidworks/2027-05-04/
LOCATION:KidWorks Dan Donahue Center\, 1902 W Chestnut Ave\, Santa Ana\, CA\, 92703\, United States
ATTACH;FMTTYPE=image/jpeg:https://kidworksoc.org/wp-content/uploads/2023/09/IMG_6637.jpg
END:VEVENT
BEGIN:VEVENT
DTSTART;TZID=America/Los_Angeles:20270505T160000
DTEND;TZID=America/Los_Angeles:20270505T164500
DTSTAMP:20260423T183818
CREATED:20230926T215952Z
LAST-MODIFIED:20230926T215952Z
UID:10002975-1809532800-1809535500@kidworksoc.org
SUMMARY:Visita KidWorks
DESCRIPTION:Nos encanta recibir visitas. Las visitas suelen durar 45 minutos y se realizan en nuestro Centro Dan Donahue. Haga clic AQUÍ para obtener más información e inscribirse. \nCentro KidWorks Dan Donahue\n1902 W. Chestnut Ave\nSanta Ana\, CA 92703
URL:https://kidworksoc.org/es/event/visita-kidworks-2/2027-05-05/
LOCATION:KidWorks Dan Donahue Center\, 1902 W Chestnut Ave\, Santa Ana\, CA\, 92703\, United States
ATTACH;FMTTYPE=image/jpeg:https://kidworksoc.org/wp-content/uploads/2023/02/CAASeniors-Christmas-e1695703920919.jpg
END:VEVENT
BEGIN:VEVENT
DTSTART;TZID=America/Los_Angeles:20270511T143000
DTEND;TZID=America/Los_Angeles:20270511T151500
DTSTAMP:20260423T183818
CREATED:20230926T044638Z
LAST-MODIFIED:20230926T044638Z
UID:10001411-1810045800-1810048500@kidworksoc.org
SUMMARY:Visita KidWorks
DESCRIPTION:Nos encanta recibir visitas. Las visitas suelen durar 45 minutos y se realizan en: \nCentro KidWorks Dan Donahue\n1902 W. Chestnut Ave\nSanta Ana\, CA 92703
URL:https://kidworksoc.org/es/event/visita-kidworks/2027-05-11/
LOCATION:KidWorks Dan Donahue Center\, 1902 W Chestnut Ave\, Santa Ana\, CA\, 92703\, United States
ATTACH;FMTTYPE=image/jpeg:https://kidworksoc.org/wp-content/uploads/2023/09/IMG_6637.jpg
END:VEVENT
BEGIN:VEVENT
DTSTART;TZID=America/Los_Angeles:20270512T160000
DTEND;TZID=America/Los_Angeles:20270512T164500
DTSTAMP:20260423T183818
CREATED:20230926T215952Z
LAST-MODIFIED:20230926T215952Z
UID:10002976-1810137600-1810140300@kidworksoc.org
SUMMARY:Visita KidWorks
DESCRIPTION:Nos encanta recibir visitas. Las visitas suelen durar 45 minutos y se realizan en nuestro Centro Dan Donahue. Haga clic AQUÍ para obtener más información e inscribirse. \nCentro KidWorks Dan Donahue\n1902 W. Chestnut Ave\nSanta Ana\, CA 92703
URL:https://kidworksoc.org/es/event/visita-kidworks-2/2027-05-12/
LOCATION:KidWorks Dan Donahue Center\, 1902 W Chestnut Ave\, Santa Ana\, CA\, 92703\, United States
ATTACH;FMTTYPE=image/jpeg:https://kidworksoc.org/wp-content/uploads/2023/02/CAASeniors-Christmas-e1695703920919.jpg
END:VEVENT
BEGIN:VEVENT
DTSTART;TZID=America/Los_Angeles:20270514T180000
DTEND;TZID=America/Los_Angeles:20270514T210000
DTSTAMP:20260423T183818
CREATED:20240627T164759Z
LAST-MODIFIED:20240711T184044Z
UID:10003662-1810317600-1810328400@kidworksoc.org
SUMMARY:Noches de la Juventud de Secundaria
DESCRIPTION:
URL:https://kidworksoc.org/es/event/noches-de-la-juventud-de-secundaria-2/2027-05-14/
ATTACH;FMTTYPE=image/jpeg:https://kidworksoc.org/wp-content/uploads/2023/02/IMG_9695.jpg
END:VEVENT
BEGIN:VEVENT
DTSTART;TZID=America/Los_Angeles:20270518T143000
DTEND;TZID=America/Los_Angeles:20270518T151500
DTSTAMP:20260423T183818
CREATED:20230926T044638Z
LAST-MODIFIED:20230926T044638Z
UID:10001412-1810650600-1810653300@kidworksoc.org
SUMMARY:Visita KidWorks
DESCRIPTION:Nos encanta recibir visitas. Las visitas suelen durar 45 minutos y se realizan en: \nCentro KidWorks Dan Donahue\n1902 W. Chestnut Ave\nSanta Ana\, CA 92703
URL:https://kidworksoc.org/es/event/visita-kidworks/2027-05-18/
LOCATION:KidWorks Dan Donahue Center\, 1902 W Chestnut Ave\, Santa Ana\, CA\, 92703\, United States
ATTACH;FMTTYPE=image/jpeg:https://kidworksoc.org/wp-content/uploads/2023/09/IMG_6637.jpg
END:VEVENT
BEGIN:VEVENT
DTSTART;TZID=America/Los_Angeles:20270519T160000
DTEND;TZID=America/Los_Angeles:20270519T164500
DTSTAMP:20260423T183818
CREATED:20230926T215952Z
LAST-MODIFIED:20230926T215952Z
UID:10002977-1810742400-1810745100@kidworksoc.org
SUMMARY:Visita KidWorks
DESCRIPTION:Nos encanta recibir visitas. Las visitas suelen durar 45 minutos y se realizan en nuestro Centro Dan Donahue. Haga clic AQUÍ para obtener más información e inscribirse. \nCentro KidWorks Dan Donahue\n1902 W. Chestnut Ave\nSanta Ana\, CA 92703
URL:https://kidworksoc.org/es/event/visita-kidworks-2/2027-05-19/
LOCATION:KidWorks Dan Donahue Center\, 1902 W Chestnut Ave\, Santa Ana\, CA\, 92703\, United States
ATTACH;FMTTYPE=image/jpeg:https://kidworksoc.org/wp-content/uploads/2023/02/CAASeniors-Christmas-e1695703920919.jpg
END:VEVENT
BEGIN:VEVENT
DTSTART;TZID=America/Los_Angeles:20270521T170000
DTEND;TZID=America/Los_Angeles:20270521T190000
DTSTAMP:20260423T183818
CREATED:20230612T232942Z
LAST-MODIFIED:20230612T232942Z
UID:10003583-1810918800-1810926000@kidworksoc.org
SUMMARY:Noches de Juventud en la Escuela Secundaria
DESCRIPTION:
URL:https://kidworksoc.org/es/event/noches-de-juventud-en-la-escuela-secundaria/2027-05-21/
ATTACH;FMTTYPE=image/jpeg:https://kidworksoc.org/wp-content/uploads/2023/05/dGWu68pA.jpeg
END:VEVENT
BEGIN:VEVENT
DTSTART;TZID=America/Los_Angeles:20270525T143000
DTEND;TZID=America/Los_Angeles:20270525T151500
DTSTAMP:20260423T183818
CREATED:20230926T044638Z
LAST-MODIFIED:20230926T044638Z
UID:10001413-1811255400-1811258100@kidworksoc.org
SUMMARY:Visita KidWorks
DESCRIPTION:Nos encanta recibir visitas. Las visitas suelen durar 45 minutos y se realizan en: \nCentro KidWorks Dan Donahue\n1902 W. Chestnut Ave\nSanta Ana\, CA 92703
URL:https://kidworksoc.org/es/event/visita-kidworks/2027-05-25/
LOCATION:KidWorks Dan Donahue Center\, 1902 W Chestnut Ave\, Santa Ana\, CA\, 92703\, United States
ATTACH;FMTTYPE=image/jpeg:https://kidworksoc.org/wp-content/uploads/2023/09/IMG_6637.jpg
END:VEVENT
BEGIN:VEVENT
DTSTART;TZID=America/Los_Angeles:20270526T160000
DTEND;TZID=America/Los_Angeles:20270526T164500
DTSTAMP:20260423T183818
CREATED:20230926T215952Z
LAST-MODIFIED:20230926T215952Z
UID:10002978-1811347200-1811349900@kidworksoc.org
SUMMARY:Visita KidWorks
DESCRIPTION:Nos encanta recibir visitas. Las visitas suelen durar 45 minutos y se realizan en nuestro Centro Dan Donahue. Haga clic AQUÍ para obtener más información e inscribirse. \nCentro KidWorks Dan Donahue\n1902 W. Chestnut Ave\nSanta Ana\, CA 92703
URL:https://kidworksoc.org/es/event/visita-kidworks-2/2027-05-26/
LOCATION:KidWorks Dan Donahue Center\, 1902 W Chestnut Ave\, Santa Ana\, CA\, 92703\, United States
ATTACH;FMTTYPE=image/jpeg:https://kidworksoc.org/wp-content/uploads/2023/02/CAASeniors-Christmas-e1695703920919.jpg
END:VEVENT
BEGIN:VEVENT
DTSTART;TZID=America/Los_Angeles:20270601T143000
DTEND;TZID=America/Los_Angeles:20270601T151500
DTSTAMP:20260423T183818
CREATED:20230926T044638Z
LAST-MODIFIED:20230926T044638Z
UID:10001414-1811860200-1811862900@kidworksoc.org
SUMMARY:Visita KidWorks
DESCRIPTION:Nos encanta recibir visitas. Las visitas suelen durar 45 minutos y se realizan en: \nCentro KidWorks Dan Donahue\n1902 W. Chestnut Ave\nSanta Ana\, CA 92703
URL:https://kidworksoc.org/es/event/visita-kidworks/2027-06-01/
LOCATION:KidWorks Dan Donahue Center\, 1902 W Chestnut Ave\, Santa Ana\, CA\, 92703\, United States
ATTACH;FMTTYPE=image/jpeg:https://kidworksoc.org/wp-content/uploads/2023/09/IMG_6637.jpg
END:VEVENT
BEGIN:VEVENT
DTSTART;TZID=America/Los_Angeles:20270602T160000
DTEND;TZID=America/Los_Angeles:20270602T164500
DTSTAMP:20260423T183818
CREATED:20230926T215952Z
LAST-MODIFIED:20230926T215952Z
UID:10002979-1811952000-1811954700@kidworksoc.org
SUMMARY:Visita KidWorks
DESCRIPTION:Nos encanta recibir visitas. Las visitas suelen durar 45 minutos y se realizan en nuestro Centro Dan Donahue. Haga clic AQUÍ para obtener más información e inscribirse. \nCentro KidWorks Dan Donahue\n1902 W. Chestnut Ave\nSanta Ana\, CA 92703
URL:https://kidworksoc.org/es/event/visita-kidworks-2/2027-06-02/
LOCATION:KidWorks Dan Donahue Center\, 1902 W Chestnut Ave\, Santa Ana\, CA\, 92703\, United States
ATTACH;FMTTYPE=image/jpeg:https://kidworksoc.org/wp-content/uploads/2023/02/CAASeniors-Christmas-e1695703920919.jpg
END:VEVENT
BEGIN:VEVENT
DTSTART;TZID=America/Los_Angeles:20270608T143000
DTEND;TZID=America/Los_Angeles:20270608T151500
DTSTAMP:20260423T183818
CREATED:20230926T044638Z
LAST-MODIFIED:20230926T044638Z
UID:10001415-1812465000-1812467700@kidworksoc.org
SUMMARY:Visita KidWorks
DESCRIPTION:Nos encanta recibir visitas. Las visitas suelen durar 45 minutos y se realizan en: \nCentro KidWorks Dan Donahue\n1902 W. Chestnut Ave\nSanta Ana\, CA 92703
URL:https://kidworksoc.org/es/event/visita-kidworks/2027-06-08/
LOCATION:KidWorks Dan Donahue Center\, 1902 W Chestnut Ave\, Santa Ana\, CA\, 92703\, United States
ATTACH;FMTTYPE=image/jpeg:https://kidworksoc.org/wp-content/uploads/2023/09/IMG_6637.jpg
END:VEVENT
BEGIN:VEVENT
DTSTART;TZID=America/Los_Angeles:20270609T160000
DTEND;TZID=America/Los_Angeles:20270609T164500
DTSTAMP:20260423T183818
CREATED:20230926T215952Z
LAST-MODIFIED:20230926T215952Z
UID:10002980-1812556800-1812559500@kidworksoc.org
SUMMARY:Visita KidWorks
DESCRIPTION:Nos encanta recibir visitas. Las visitas suelen durar 45 minutos y se realizan en nuestro Centro Dan Donahue. Haga clic AQUÍ para obtener más información e inscribirse. \nCentro KidWorks Dan Donahue\n1902 W. Chestnut Ave\nSanta Ana\, CA 92703
URL:https://kidworksoc.org/es/event/visita-kidworks-2/2027-06-09/
LOCATION:KidWorks Dan Donahue Center\, 1902 W Chestnut Ave\, Santa Ana\, CA\, 92703\, United States
ATTACH;FMTTYPE=image/jpeg:https://kidworksoc.org/wp-content/uploads/2023/02/CAASeniors-Christmas-e1695703920919.jpg
END:VEVENT
BEGIN:VEVENT
DTSTART;TZID=America/Los_Angeles:20270611T180000
DTEND;TZID=America/Los_Angeles:20270611T210000
DTSTAMP:20260423T183818
CREATED:20240627T164759Z
LAST-MODIFIED:20240711T184044Z
UID:10003663-1812736800-1812747600@kidworksoc.org
SUMMARY:Noches de la Juventud de Secundaria
DESCRIPTION:
URL:https://kidworksoc.org/es/event/noches-de-la-juventud-de-secundaria-2/2027-06-11/
ATTACH;FMTTYPE=image/jpeg:https://kidworksoc.org/wp-content/uploads/2023/02/IMG_9695.jpg
END:VEVENT
BEGIN:VEVENT
DTSTART;TZID=America/Los_Angeles:20270615T143000
DTEND;TZID=America/Los_Angeles:20270615T151500
DTSTAMP:20260423T183818
CREATED:20230926T044638Z
LAST-MODIFIED:20230926T044638Z
UID:10001416-1813069800-1813072500@kidworksoc.org
SUMMARY:Visita KidWorks
DESCRIPTION:Nos encanta recibir visitas. Las visitas suelen durar 45 minutos y se realizan en: \nCentro KidWorks Dan Donahue\n1902 W. Chestnut Ave\nSanta Ana\, CA 92703
URL:https://kidworksoc.org/es/event/visita-kidworks/2027-06-15/
LOCATION:KidWorks Dan Donahue Center\, 1902 W Chestnut Ave\, Santa Ana\, CA\, 92703\, United States
ATTACH;FMTTYPE=image/jpeg:https://kidworksoc.org/wp-content/uploads/2023/09/IMG_6637.jpg
END:VEVENT
BEGIN:VEVENT
DTSTART;TZID=America/Los_Angeles:20270616T160000
DTEND;TZID=America/Los_Angeles:20270616T164500
DTSTAMP:20260423T183818
CREATED:20230926T215952Z
LAST-MODIFIED:20230926T215952Z
UID:10002981-1813161600-1813164300@kidworksoc.org
SUMMARY:Visita KidWorks
DESCRIPTION:Nos encanta recibir visitas. Las visitas suelen durar 45 minutos y se realizan en nuestro Centro Dan Donahue. Haga clic AQUÍ para obtener más información e inscribirse. \nCentro KidWorks Dan Donahue\n1902 W. Chestnut Ave\nSanta Ana\, CA 92703
URL:https://kidworksoc.org/es/event/visita-kidworks-2/2027-06-16/
LOCATION:KidWorks Dan Donahue Center\, 1902 W Chestnut Ave\, Santa Ana\, CA\, 92703\, United States
ATTACH;FMTTYPE=image/jpeg:https://kidworksoc.org/wp-content/uploads/2023/02/CAASeniors-Christmas-e1695703920919.jpg
END:VEVENT
END:VCALENDAR