BEGIN:VCALENDAR
VERSION:2.0
PRODID:-//KidWorks - ECPv6.15.20//NONSGML v1.0//EN
CALSCALE:GREGORIAN
METHOD:PUBLISH
X-WR-CALNAME:KidWorks
X-ORIGINAL-URL:https://kidworksoc.org/es/
X-WR-CALDESC:Eventos para KidWorks
REFRESH-INTERVAL;VALUE=DURATION:PT1H
X-Robots-Tag:noindex
X-PUBLISHED-TTL:PT1H
BEGIN:VTIMEZONE
TZID:America/Los_Angeles
BEGIN:DAYLIGHT
TZOFFSETFROM:-0800
TZOFFSETTO:-0700
TZNAME:PDT
DTSTART:20230312T100000
END:DAYLIGHT
BEGIN:STANDARD
TZOFFSETFROM:-0700
TZOFFSETTO:-0800
TZNAME:PST
DTSTART:20231105T090000
END:STANDARD
BEGIN:DAYLIGHT
TZOFFSETFROM:-0800
TZOFFSETTO:-0700
TZNAME:PDT
DTSTART:20240310T100000
END:DAYLIGHT
BEGIN:STANDARD
TZOFFSETFROM:-0700
TZOFFSETTO:-0800
TZNAME:PST
DTSTART:20241103T090000
END:STANDARD
BEGIN:DAYLIGHT
TZOFFSETFROM:-0800
TZOFFSETTO:-0700
TZNAME:PDT
DTSTART:20250309T100000
END:DAYLIGHT
BEGIN:STANDARD
TZOFFSETFROM:-0700
TZOFFSETTO:-0800
TZNAME:PST
DTSTART:20251102T090000
END:STANDARD
END:VTIMEZONE
BEGIN:VEVENT
DTSTART;TZID=America/Los_Angeles:20240311T173000
DTEND;TZID=America/Los_Angeles:20240311T190000
DTSTAMP:20260424T195637
CREATED:20230822T194202Z
LAST-MODIFIED:20230822T194202Z
UID:10000959-1710178200-1710183600@kidworksoc.org
SUMMARY:Programa Mentor
DESCRIPTION:
URL:https://kidworksoc.org/es/event/programa-mentor/2024-03-11/
ATTACH;FMTTYPE=image/jpeg:https://kidworksoc.org/wp-content/uploads/2023/08/IMG_5582.jpg
END:VEVENT
BEGIN:VEVENT
DTSTART;TZID=America/Los_Angeles:20240313T080000
DTEND;TZID=America/Los_Angeles:20240313T130000
DTSTAMP:20260424T195637
CREATED:20240206T185641Z
LAST-MODIFIED:20240206T192859Z
UID:10003464-1710316800-1710334800@kidworksoc.org
SUMMARY:Conferencia de Liderazgo de la IES Concordia
DESCRIPTION:Desde 2016\, este evento GRATUITO ha inspirado a estudiantes de colegios comunitarios y escuelas secundarias a perseguir metas académicas para un futuro brillante. El objetivo de este acto es ayudar a los asistentes a recorrer el camino hacia la universidad. Los estudiantes descubrirán que la universidad no es un sueño\, sino un plan. La conferencia ofrece un conjunto de recursos educativos sobre carreras universitarias\, ayuda financiera\, así como ponentes inspiradores de primera generación\, profesionales del sector y un discurso de apertura. Los padres también pueden participar en su propia sesión -en español- que ofrece valiosos recursos sobre lo que pueden esperar cuando sus hijos inicien su viaje a la universidad. La conferencia finaliza con un almuerzo gratuito y una Feria de Información Universitaria. \nKidWorks proporcionará el transporte a la conferencia. \nPreguntas:\nCorreo electrónico sonia.rios@kidworksoc.org \n  \n 
URL:https://kidworksoc.org/es/event/conferencia-de-liderazgo-de-la-ies-concordia/
CATEGORIES:padre
ATTACH;FMTTYPE=image/jpeg:https://kidworksoc.org/wp-content/uploads/2024/02/latinx-gallery-1.jpg
END:VEVENT
END:VCALENDAR