BEGIN:VCALENDAR
VERSION:2.0
PRODID:-//KidWorks - ECPv6.15.20//NONSGML v1.0//EN
CALSCALE:GREGORIAN
METHOD:PUBLISH
X-ORIGINAL-URL:https://kidworksoc.org/es/
X-WR-CALDESC:Eventos para KidWorks
REFRESH-INTERVAL;VALUE=DURATION:PT1H
X-Robots-Tag:noindex
X-PUBLISHED-TTL:PT1H
BEGIN:VTIMEZONE
TZID:America/Los_Angeles
BEGIN:DAYLIGHT
TZOFFSETFROM:-0800
TZOFFSETTO:-0700
TZNAME:PDT
DTSTART:20220313T100000
END:DAYLIGHT
BEGIN:STANDARD
TZOFFSETFROM:-0700
TZOFFSETTO:-0800
TZNAME:PST
DTSTART:20221106T090000
END:STANDARD
BEGIN:DAYLIGHT
TZOFFSETFROM:-0800
TZOFFSETTO:-0700
TZNAME:PDT
DTSTART:20230312T100000
END:DAYLIGHT
BEGIN:STANDARD
TZOFFSETFROM:-0700
TZOFFSETTO:-0800
TZNAME:PST
DTSTART:20231105T090000
END:STANDARD
BEGIN:DAYLIGHT
TZOFFSETFROM:-0800
TZOFFSETTO:-0700
TZNAME:PDT
DTSTART:20240310T100000
END:DAYLIGHT
BEGIN:STANDARD
TZOFFSETFROM:-0700
TZOFFSETTO:-0800
TZNAME:PST
DTSTART:20241103T090000
END:STANDARD
BEGIN:DAYLIGHT
TZOFFSETFROM:-0800
TZOFFSETTO:-0700
TZNAME:PDT
DTSTART:20250309T100000
END:DAYLIGHT
BEGIN:STANDARD
TZOFFSETFROM:-0700
TZOFFSETTO:-0800
TZNAME:PST
DTSTART:20251102T090000
END:STANDARD
END:VTIMEZONE
BEGIN:VEVENT
DTSTART;TZID=America/Los_Angeles:20240119T170000
DTEND;TZID=America/Los_Angeles:20240119T190000
DTSTAMP:20260421T042742
CREATED:20230612T232942Z
LAST-MODIFIED:20230612T232942Z
UID:10003543-1705683600-1705690800@kidworksoc.org
SUMMARY:Noches de Juventud en la Escuela Secundaria
DESCRIPTION:
URL:https://kidworksoc.org/es/event/noches-de-juventud-en-la-escuela-secundaria/2024-01-19/
ATTACH;FMTTYPE=image/jpeg:https://kidworksoc.org/wp-content/uploads/2023/05/dGWu68pA.jpeg
END:VEVENT
BEGIN:VEVENT
DTSTART;TZID=America/Los_Angeles:20231215T170000
DTEND;TZID=America/Los_Angeles:20231215T190000
DTSTAMP:20260421T042742
CREATED:20230612T232942Z
LAST-MODIFIED:20230612T232942Z
UID:10003542-1702659600-1702666800@kidworksoc.org
SUMMARY:Noches de Juventud en la Escuela Secundaria
DESCRIPTION:
URL:https://kidworksoc.org/es/event/noches-de-juventud-en-la-escuela-secundaria/2023-12-15/
ATTACH;FMTTYPE=image/jpeg:https://kidworksoc.org/wp-content/uploads/2023/05/dGWu68pA.jpeg
END:VEVENT
BEGIN:VEVENT
DTSTART;TZID=America/Los_Angeles:20231121T163000
DTEND;TZID=America/Los_Angeles:20231121T193000
DTSTAMP:20260421T042742
CREATED:20230613T154712Z
LAST-MODIFIED:20230613T154712Z
UID:10000473-1700584200-1700595000@kidworksoc.org
SUMMARY:Fiesta de la Juventud KidWorks
DESCRIPTION:
URL:https://kidworksoc.org/es/event/fiesta-de-la-juventud-kidworks/
ATTACH;FMTTYPE=image/jpeg:https://kidworksoc.org/wp-content/uploads/2023/06/IMG_9856-scaled.jpg
END:VEVENT
BEGIN:VEVENT
DTSTART;TZID=America/Los_Angeles:20231117T170000
DTEND;TZID=America/Los_Angeles:20231117T190000
DTSTAMP:20260421T042742
CREATED:20230612T232942Z
LAST-MODIFIED:20230612T232942Z
UID:10003541-1700240400-1700247600@kidworksoc.org
SUMMARY:Noches de Juventud en la Escuela Secundaria
DESCRIPTION:
URL:https://kidworksoc.org/es/event/noches-de-juventud-en-la-escuela-secundaria/2023-11-17/
ATTACH;FMTTYPE=image/jpeg:https://kidworksoc.org/wp-content/uploads/2023/05/dGWu68pA.jpeg
END:VEVENT
BEGIN:VEVENT
DTSTART;TZID=America/Los_Angeles:20231020T170000
DTEND;TZID=America/Los_Angeles:20231020T190000
DTSTAMP:20260421T042742
CREATED:20230612T232942Z
LAST-MODIFIED:20230612T232942Z
UID:10003540-1697821200-1697828400@kidworksoc.org
SUMMARY:Noches de Juventud en la Escuela Secundaria
DESCRIPTION:
URL:https://kidworksoc.org/es/event/noches-de-juventud-en-la-escuela-secundaria/2023-10-20/
ATTACH;FMTTYPE=image/jpeg:https://kidworksoc.org/wp-content/uploads/2023/05/dGWu68pA.jpeg
END:VEVENT
BEGIN:VEVENT
DTSTART;TZID=America/Los_Angeles:20230915T170000
DTEND;TZID=America/Los_Angeles:20230915T190000
DTSTAMP:20260421T042742
CREATED:20230612T232942Z
LAST-MODIFIED:20230612T232942Z
UID:10003539-1694797200-1694804400@kidworksoc.org
SUMMARY:Noches de Juventud en la Escuela Secundaria
DESCRIPTION:
URL:https://kidworksoc.org/es/event/noches-de-juventud-en-la-escuela-secundaria/2023-09-15/
ATTACH;FMTTYPE=image/jpeg:https://kidworksoc.org/wp-content/uploads/2023/05/dGWu68pA.jpeg
END:VEVENT
END:VCALENDAR